BEGIN:VCALENDAR
PRODID:NingEventWidget-v1
VERSION:2.0
METHOD:PUBLISH
BEGIN:VTIMEZONE
TZID:Europe/London
X-LIC-LOCATION:Europe/London
BEGIN:DAYLIGHT
TZOFFSETFROM:+0000
TZOFFSETTO:+0100
TZNAME:BST
DTSTART:19700329T010000
RRULE:FREQ=YEARLY;BYMONTH=3;BYDAY=-1SU
END:DAYLIGHT
BEGIN:STANDARD
TZOFFSETFROM:+0100
TZOFFSETTO:+0000
TZNAME:GMT
DTSTART:19701025T020000
RRULE:FREQ=YEARLY;BYMONTH=10;BYDAY=-1SU
END:STANDARD
END:VTIMEZONE
BEGIN:VEVENT
UID:6278630:Event:128060
DTSTAMP:20260422T084542Z
SUMMARY:SALSA SUNDAYS IN NORTH LONDON
DESCRIPTION:SALSA WITH SUREKA presents fun and friendly classes every 
 Sunday in Southgate. \n\nOur fun and friendly classes will help you g
 et fit, make new friends, develop a new passion and help you look grea
 t on the dance floor!PLUS: Join us for drinks after class and Salsa pa
 rties in authentic Salsa Clubs. BEGINNERS SALSA COURSEYou will learn t
 he basic steps of Salsa, the rhythm of Salsa music, the techniques of 
 leading and following and the style and body language to look good and
  feel confident on the dance floor.Prerequisite: No previous dance exp
 erience necessary and those with 2-left-feet are warmly welcomed! INTE
 RMEDIATE SALSA COURSENow that we've got you dancing, you will learn ne
 w routines using the basic steps you've mastered. There will be greate
 r emphasis on the techniques of leading and following, musical interpr
 etation and styling so you can start to really express yourself on the
  dance floor.Prerequisite: Our 12-week Beginners Salsa course or equiv
 alent experience. (Individual evaluations available on request). TIMES
 :Beginners with Patrick: 4-5pmIntermediates with Sureka: 4-5pm VENUE:S
 t Andrew's Church Hall, Chase Side, Southgate, N14 5PP \nBook online 
 at www.salsawithsureka.com or save £5 by booking via bank transfer. C
 all 07984 136 961 for more info. \n\nFor more information visit https
 ://bowesandbounds.org/events/salsa-sundays-in-north-london-3
DTSTART;TZID=Europe/London:20171126T160000
DTEND;TZID=Europe/London:20171126T170000
CATEGORIES:"'salsa", "classes'", "'dance", lessons, music, "'north", "
 london'", "'socialising'"
LOCATION:St Andrew's Church Hall
WEBSITE:http://www.salsawithsureka.com
URL:http://www.salsawithsureka.com
CONTACT:07984 136 961
ORGANIZER;CN="Sureka Fernando":https://bowesandbounds.org/profile/Sure
 kaFernando
ATTACH;FMTTYPE="image/jpeg":http://storage.ning.com/topology/rest/1.0/
 file/get/2287317893?profile=original
ATTENDEE;ROLE=REQ-PARTICIPANT;PARTSTAT=ACCEPTED;RSVP=TRUE;CN="Sureka F
 ernando":https://bowesandbounds.org/profile/SurekaFernando
END:VEVENT
END:VCALENDAR
