BEGIN:VCALENDAR
PRODID:NingEventWidget-v1
VERSION:2.0
METHOD:PUBLISH
BEGIN:VTIMEZONE
TZID:Europe/London
X-LIC-LOCATION:Europe/London
BEGIN:DAYLIGHT
TZOFFSETFROM:+0000
TZOFFSETTO:+0100
TZNAME:BST
DTSTART:19700329T010000
RRULE:FREQ=YEARLY;BYMONTH=3;BYDAY=-1SU
END:DAYLIGHT
BEGIN:STANDARD
TZOFFSETFROM:+0100
TZOFFSETTO:+0000
TZNAME:GMT
DTSTART:19701025T020000
RRULE:FREQ=YEARLY;BYMONTH=10;BYDAY=-1SU
END:STANDARD
END:VTIMEZONE
BEGIN:VEVENT
UID:6278630:Event:107601
DTSTAMP:20260423T231408Z
SUMMARY:SALSA SUNDAYS IN SOUTHGATE
DESCRIPTION:SALSA WITH SUREKA presents fun and friendly classes every 
 Wednesday in Bounds Green.   Our fun and friendly classes will help y
 ou get fit, make new friends, develop a new passion and help you look 
 great on the dance floor! PLUS: Join us for drinks after class and Sal
 sa parties in authentic Salsa Clubs.  BEGINNERS SALSA COURSE You will 
 learn the basic steps of Salsa, the rhythm of Salsa music, the techniq
 ues of leading and following and the style and body language to look g
 ood and feel confident on the dance floor.  Prerequisite: No previous
  dance experience necessary and those with 2-left-feet are warmly welc
 omed!   INTERMEDIATE SALSA COURSE Now that we've got you dancing, you
  will learn new routines using the basic steps you've mastered. There 
 will be greater emphasis on the techniques of leading and following, m
 usical interpretation and styling so you can start to really express y
 ourself on the dance floor. Prerequisite: Our 12-week Beginners Salsa 
 course or equivalent experience. (Individual evaluations available on 
 request).  DATES:   6-WEEK SALSA COURSE 21 February- 27 March, 2016  
 TIMES:  Beginners with Patrick: 4-5pm Intermediates with Sureka: 4-5p
 m  VENUE: St Andrew's Church Hall, Chase Side, Southgate, N14 5PP  Boo
 k online at www.salsawithsureka.com or call 07984 136 961/ email sur
 ekaf@gmail.com for more info.\n\n\n\nFor more information visit https:
 //bowesandbounds.org/events/salsa-sundays-in-southgate-1
DTSTART;TZID=Europe/London:20160221T160000
DTEND;TZID=Europe/London:20160327T170000
CATEGORIES:fun, salsa, dance, classes, learn, latin, courses, cuban, m
 usic, health, fitness, social, wood, green, bounds, bowes, park, harin
 gey, southgate, arnos, grove, barnet, enfield, finchley, turnpike, lan
 e
LOCATION:St Andrew's Church Hall, Chase Side, N14 5PP
WEBSITE:http://www.salsawithsureka.com
URL:http://www.salsawithsureka.com
CONTACT:07984 136 961
ORGANIZER;CN="Sureka Fernando":https://bowesandbounds.org/profile/Sure
 kaFernando
ATTACH;FMTTYPE="image/jpeg":http://storage.ning.com/topology/rest/1.0/
 file/get/2287294881?profile=original
ATTENDEE;ROLE=REQ-PARTICIPANT;PARTSTAT=ACCEPTED;RSVP=TRUE;CN="Sureka F
 ernando":https://bowesandbounds.org/profile/SurekaFernando
END:VEVENT
END:VCALENDAR
