BEGIN:VCALENDAR
PRODID:NingEventWidget-v1
VERSION:2.0
METHOD:PUBLISH
BEGIN:VTIMEZONE
TZID:Europe/London
X-LIC-LOCATION:Europe/London
BEGIN:DAYLIGHT
TZOFFSETFROM:+0000
TZOFFSETTO:+0100
TZNAME:BST
DTSTART:19700329T010000
RRULE:FREQ=YEARLY;BYMONTH=3;BYDAY=-1SU
END:DAYLIGHT
BEGIN:STANDARD
TZOFFSETFROM:+0100
TZOFFSETTO:+0000
TZNAME:GMT
DTSTART:19701025T020000
RRULE:FREQ=YEARLY;BYMONTH=10;BYDAY=-1SU
END:STANDARD
END:VTIMEZONE
BEGIN:VEVENT
UID:6278630:Event:130470
DTSTAMP:20260421T173254Z
SUMMARY:Salsa Wednesdays in North London
DESCRIPTION:SALSA WITH SUREKA presents fun and friendly classes every 
 Wednesday in Bounds Green. \n Our fun and friendly classes will help 
 you get fit, make new friends, develop a new passion and help you look
  great on the dance floor! PLUS: Join us for drinks after class and Sa
 lsa parties in authentic Salsa Clubs.\n BEGINNERS SALSA COURSE You wil
 l learn the basic steps of Salsa, the rhythm of Salsa music, the techn
 iques of leading and following and the style and body language to look
  good and feel confident on the dance floor. Prerequisite: No previous
  dance experience necessary and those with 2-left-feet are warmly welc
 omed!  INTERMEDIATE SALSA COURSENow that we've got you dancing, you wi
 ll learn new routines using the basic steps you've mastered. There wil
 l be greater emphasis on the techniques of leading and following, musi
 cal interpretation and styling so you can start to really express your
 self on the dance floor.Prerequisite: Our 12-week Beginners Salsa cour
 se or equivalent experience. (Individual evaluations available on requ
 est). TIMES:Beginners with Patrick: 7-8pmIntermediates with Sureka: 7-
 8pm VENUE:Bounds Green School, Bounds Green Road, Bounds Green, London
 , N11 2QG. Check out our promo video: https://www.youtube.com/watch?v
 =scq0uQl2HWs Book online at www.salsawithsureka.com or save £5 by b
 ooking via bank transfer. Call 07984 136 961 for more info.\n\nFor mor
 e information visit https://bowesandbounds.org/events/salsa-wednesdays
 -in-north-london-11
DTSTART;TZID=Europe/London:20180314T190000
DTEND;TZID=Europe/London:20180328T200000
CATEGORIES:salsa, classes, wednesday, bounds, green, n11, london
LOCATION:Bounds Green School
WEBSITE:http://www.salsawithsureka.com/
URL:http://www.salsawithsureka.com/
CONTACT:07984 136 961
ORGANIZER;CN="Sureka Fernando":https://bowesandbounds.org/profile/Sure
 kaFernando
ATTACH;FMTTYPE="image/jpeg":http://storage.ning.com/topology/rest/1.0/
 file/get/2287324023?profile=original
ATTENDEE;ROLE=REQ-PARTICIPANT;PARTSTAT=ACCEPTED;RSVP=TRUE;CN="Sureka F
 ernando":https://bowesandbounds.org/profile/SurekaFernando
END:VEVENT
END:VCALENDAR
