BEGIN:VCALENDAR
PRODID:NingEventWidget-v1
VERSION:2.0
METHOD:PUBLISH
BEGIN:VTIMEZONE
TZID:Europe/London
X-LIC-LOCATION:Europe/London
BEGIN:DAYLIGHT
TZOFFSETFROM:+0000
TZOFFSETTO:+0100
TZNAME:BST
DTSTART:19700329T010000
RRULE:FREQ=YEARLY;BYMONTH=3;BYDAY=-1SU
END:DAYLIGHT
BEGIN:STANDARD
TZOFFSETFROM:+0100
TZOFFSETTO:+0000
TZNAME:GMT
DTSTART:19701025T020000
RRULE:FREQ=YEARLY;BYMONTH=10;BYDAY=-1SU
END:STANDARD
END:VTIMEZONE
BEGIN:VEVENT
UID:6278630:Event:236647
DTSTAMP:20260422T122004Z
SUMMARY:Salsa Wednesdays in North London
DESCRIPTION:NEWSFLASH!!\n\n\nOver half the places have now been filled
  for our new SALSA Course starting on Weds 8 Sept in North London \n\n
 \nIf you still want to join us, please book your place ASAP!\nNo partn
 er necessary, no pressure, just FUN \n\n\nDue to Covid precautions, nu
 mbers will be strictly limited.\nAdvance booking is essential and book
 ing will close as soon as we reach 30 students.\n\n\nTo book/ For more
  info, please text me on 07984 136 961 or email bookings@salsawithsure
 ka.com\n\n\nLooking forward to welcoming you (back)!\nSureka x\nSalsa 
 With Sureka\nhttps://www.facebook.com/events/4560958273935100\n\n\nFor
  more information visit https://bowesandbounds.org/events/salsa-wednes
 days-in-north-london-15
DTSTART;TZID=Europe/London:20210908T190000
DTEND;TZID=Europe/London:20210908T200000
CATEGORIES:salsa, dance, classes, wednesday, n11, n22, n13, n14, n10, 
 "'bounds", "green'", "'north", "london'", "'wood", "'muswell", "hill'"
LOCATION:Bounds Green School
WEBSITE:http://www.salsawithsureka.com
URL:http://www.salsawithsureka.com
CONTACT:+447984136961
ORGANIZER;CN="Sureka Fernando":https://bowesandbounds.org/profile/Sure
 kaFernando
ATTACH;FMTTYPE="image/jpeg":https://storage.ning.com/topology/rest/1.0
 /file/get/9448071657?profile=original
ATTENDEE;ROLE=REQ-PARTICIPANT;PARTSTAT=ACCEPTED;RSVP=TRUE;CN="Sureka F
 ernando":https://bowesandbounds.org/profile/SurekaFernando
END:VEVENT
END:VCALENDAR
