BEGIN:VCALENDAR
PRODID:NingEventWidget-v1
VERSION:2.0
METHOD:PUBLISH
BEGIN:VTIMEZONE
TZID:Europe/London
X-LIC-LOCATION:Europe/London
BEGIN:DAYLIGHT
TZOFFSETFROM:+0000
TZOFFSETTO:+0100
TZNAME:BST
DTSTART:19700329T010000
RRULE:FREQ=YEARLY;BYMONTH=3;BYDAY=-1SU
END:DAYLIGHT
BEGIN:STANDARD
TZOFFSETFROM:+0100
TZOFFSETTO:+0000
TZNAME:GMT
DTSTART:19701025T020000
RRULE:FREQ=YEARLY;BYMONTH=10;BYDAY=-1SU
END:STANDARD
END:VTIMEZONE
BEGIN:VEVENT
UID:6278630:Event:123886
DTSTAMP:20260424T221604Z
SUMMARY:Salsa Wednesdays Summer Course!
DESCRIPTION:SALSA WITH SUREKA presents its exciting and unique Summer 
 Course.Our fun and friendly classes will help you get fit, make new fr
 iends, develop a new passion and help you look great on the dance floo
 r!PLUS: Join us for drinks after class and Salsa parties in authentic 
 Salsa Clubs.Beginners Salsa CourseYou will learn the basic steps of Sa
 lsa, the rhythm of Salsa music, the techniques of leading and followin
 g and the style and body language to look good and feel confident on t
 he dance floor. Prerequisite: No previous dance experience necessary 
 and those with 2-left-feet are warmly welcomed! Intermediates Salsa C
 ourseNow that we've got you dancing, you will learn new routines using
  the basic steps you've mastered. There will be greater emphasis on t
 he techniques of leading and following, musical interpretation and sty
 ling so you can start to really express yourself on the dance floor.Pr
 erequisite: Our 12-week Beginners Salsa Course or equivalent. Individu
 al evaluations available on request. VENUE: Bounds Green School, Lon
 don N11 2QGTIMES:Beginners: 7pm-8pm with PatrickImprovers/ Intermediat
 es: 7-8pm with Sureka Social Dancing: 8-9pmTO BOOK/ MORE INFO:Book on
 line at www.salsawithsureka.com or call 07984 136 961 for more infoC
 heck out our promo video here!https://www.youtube.com/watch?v=scq0uQl2
 HWs\n\nFor more information visit https://bowesandbounds.org/events/sa
 lsa-wednesdays-in-north-london-2
DTSTART;TZID=Europe/London:20170628T190000
DTEND;TZID=Europe/London:20170712T210000
CATEGORIES:"'salsa'", "'bounds", "green'", "'n11'", "'dancing'", "'les
 sons'"
LOCATION:Bounds Green School
WEBSITE:http://salsawithsureka.com/
URL:http://salsawithsureka.com/
CONTACT:07984 136 961
ORGANIZER;CN="Sureka Fernando":https://bowesandbounds.org/profile/Sure
 kaFernando
ATTACH;FMTTYPE="image/jpeg":http://storage.ning.com/topology/rest/1.0/
 file/get/2287317893?profile=original
ATTENDEE;ROLE=REQ-PARTICIPANT;PARTSTAT=ACCEPTED;RSVP=TRUE;CN="Sureka F
 ernando":https://bowesandbounds.org/profile/SurekaFernando
END:VEVENT
END:VCALENDAR
