BEGIN:VCALENDAR
PRODID:NingEventWidget-v1
VERSION:2.0
METHOD:PUBLISH
BEGIN:VTIMEZONE
TZID:Europe/London
X-LIC-LOCATION:Europe/London
BEGIN:DAYLIGHT
TZOFFSETFROM:+0000
TZOFFSETTO:+0100
TZNAME:BST
DTSTART:19700329T010000
RRULE:FREQ=YEARLY;BYMONTH=3;BYDAY=-1SU
END:DAYLIGHT
BEGIN:STANDARD
TZOFFSETFROM:+0100
TZOFFSETTO:+0000
TZNAME:GMT
DTSTART:19701025T020000
RRULE:FREQ=YEARLY;BYMONTH=10;BYDAY=-1SU
END:STANDARD
END:VTIMEZONE
BEGIN:VEVENT
UID:6278630:Event:248407
DTSTAMP:20260422T154853Z
SUMMARY:Salsa Wednesdays in North London
DESCRIPTION:\n**NEWSFLASH**  NEW Salsa Course starts on Wednesday 14 J
 anuary 2026!  All welcome :-)   Want to have fun, get fit, meet new p
 eople and develop a new passion?\n\n\n\nJoin our fun and friendly Sals
 a classes every Wednesday at Bounds Green School, N11. \n\n\nNo press
 ure, no partner necessary, just FUN! All welcome  \n\n\n\nTo book/ f
 or more info: Call Sureka on 07984 136 961 or email bookings@salsawith
 sureka.com\n\nwww.salsawithsureka.com\n\n\n\n\n\n\n\nFor more informat
 ion visit https://bowesandbounds.org/events/salsa-wednesdays-in-north-
 london-26
DTSTART;TZID=Europe/London:20260311T190000
DTEND;TZID=Europe/London:20260311T200000
CATEGORIES:salsa, dance, classes, wednesday, n11, n22, n13, n14, n10, 
 "'bounds", "green'", "'north", "london'", "'wood", "'muswell", "hill'"
LOCATION:Bounds Green School
WEBSITE:http://www.salsawithsureka.com
URL:http://www.salsawithsureka.com
CONTACT:+447984136961
ORGANIZER;CN="Sureka Fernando":https://bowesandbounds.org/profile/Sure
 kaFernando
ATTACH;FMTTYPE="image/jpeg":https://storage.ning.com/topology/rest/1.0
 /file/get/9611222094?profile=original
ATTENDEE;ROLE=REQ-PARTICIPANT;PARTSTAT=ACCEPTED;RSVP=TRUE;CN="Sureka F
 ernando":https://bowesandbounds.org/profile/SurekaFernando
END:VEVENT
END:VCALENDAR
