BEGIN:VCALENDAR
PRODID:NingEventWidget-v1
VERSION:2.0
METHOD:PUBLISH
BEGIN:VTIMEZONE
TZID:Europe/London
X-LIC-LOCATION:Europe/London
BEGIN:DAYLIGHT
TZOFFSETFROM:+0000
TZOFFSETTO:+0100
TZNAME:BST
DTSTART:19700329T010000
RRULE:FREQ=YEARLY;BYMONTH=3;BYDAY=-1SU
END:DAYLIGHT
BEGIN:STANDARD
TZOFFSETFROM:+0100
TZOFFSETTO:+0000
TZNAME:GMT
DTSTART:19701025T020000
RRULE:FREQ=YEARLY;BYMONTH=10;BYDAY=-1SU
END:STANDARD
END:VTIMEZONE
BEGIN:VEVENT
UID:6278630:Event:129871
DTSTAMP:20260425T125120Z
SUMMARY:Salsa Wednesdays in North London
DESCRIPTION:SALSA WITH SUREKA presents fun and friendly classes every 
 Wednesday in Bounds Green.   Our fun and friendly classes will help y
 ou get fit, make new friends, develop a new passion and help you look 
 great on the dance floor! PLUS: Join us for drinks after class and Sal
 sa parties in authentic Salsa Clubs.\n BEGINNERS SALSA COURSE You will
  learn the basic steps of Salsa, the rhythm of Salsa music, the techni
 ques of leading and following and the style and body language to look 
 good and feel confident on the dance floor. Prerequisite: No previous 
 dance experience necessary and those with 2-left-feet are warmly welco
 med!  INTERMEDIATE SALSA COURSENow that we've got you dancing, you wil
 l learn new routines using the basic steps you've mastered. There will
  be greater emphasis on the techniques of leading and following, music
 al interpretation and styling so you can start to really express yours
 elf on the dance floor.Prerequisite: Our 12-week Beginners Salsa cours
 e or equivalent experience. (Individual evaluations available on reque
 st). TIMES:Beginners with Patrick: 7-8pmIntermediates with Sureka: 7-8
 pm VENUE:Bounds Green School, Bounds Green Road, Bounds Green, London,
  N11 2QG. Check out our promo video: https://www.youtube.com/watch?v=
 scq0uQl2HWs Book online at www.salsawithsureka.com or save £5 by bo
 oking via bank transfer. Call 07984 136 961 for more info.\n\nFor more
  information visit https://bowesandbounds.org/events/salsa-wednesdays-
 in-north-london-9
DTSTART;TZID=Europe/London:20180131T190000
DTEND;TZID=Europe/London:20180214T200000
CATEGORIES:salsa, classes, wednesday, bounds, green, n11, london
LOCATION:Bounds Green School
WEBSITE:http://www.salsawithsureka.com/
URL:http://www.salsawithsureka.com/
CONTACT:07984 136 961
ORGANIZER;CN="Sureka Fernando":https://bowesandbounds.org/profile/Sure
 kaFernando
ATTACH;FMTTYPE="image/jpeg":http://storage.ning.com/topology/rest/1.0/
 file/get/2287324023?profile=original
ATTENDEE;ROLE=REQ-PARTICIPANT;PARTSTAT=ACCEPTED;RSVP=TRUE;CN="Sureka F
 ernando":https://bowesandbounds.org/profile/SurekaFernando
END:VEVENT
END:VCALENDAR
