BEGIN:VCALENDAR
PRODID:NingEventWidget-v1
VERSION:2.0
METHOD:PUBLISH
BEGIN:VTIMEZONE
TZID:Europe/London
X-LIC-LOCATION:Europe/London
BEGIN:DAYLIGHT
TZOFFSETFROM:+0000
TZOFFSETTO:+0100
TZNAME:BST
DTSTART:19700329T010000
RRULE:FREQ=YEARLY;BYMONTH=3;BYDAY=-1SU
END:DAYLIGHT
BEGIN:STANDARD
TZOFFSETFROM:+0100
TZOFFSETTO:+0000
TZNAME:GMT
DTSTART:19701025T020000
RRULE:FREQ=YEARLY;BYMONTH=10;BYDAY=-1SU
END:STANDARD
END:VTIMEZONE
BEGIN:VEVENT
UID:6278630:Event:211469
DTSTAMP:20260422T164658Z
SUMMARY:Salsa With Sureka Online Course
DESCRIPTION:How to reduce stress:-\n1. Turn off the news\n2. Turn the 
 music up and DANCE!\nIt's not too late to join us TOMORROW at Salsa Wi
 th Sureka!\n\n\nhttps://www.facebook.com/events/1144116092686931\n\n\n
 \nTo book/ For more info, Call Sureka on 07984 136 961 or email bookin
 gs@salsawithsureka.com xx\n\n\nFor more information visit https://bowe
 sandbounds.org/events/salsa-with-sureka-online-course-1
DTSTART;TZID=Europe/London:20210113T190000
DTEND;TZID=Europe/London:20210113T200000
CATEGORIES:salsa, classes
LOCATION:Online
WEBSITE:http://www.salsawithsureka.com
URL:http://www.salsawithsureka.com
CONTACT:07984136961
ORGANIZER;CN="Sureka Fernando":https://bowesandbounds.org/profile/Sure
 kaFernando
ATTACH;FMTTYPE="image/jpeg":https://storage.ning.com/topology/rest/1.0
 /file/get/8417050670?profile=original
ATTENDEE;ROLE=REQ-PARTICIPANT;PARTSTAT=ACCEPTED;RSVP=TRUE;CN="Sureka F
 ernando":https://bowesandbounds.org/profile/SurekaFernando
END:VEVENT
END:VCALENDAR
