BEGIN:VCALENDAR
PRODID:NingEventWidget-v1
VERSION:2.0
METHOD:PUBLISH
BEGIN:VTIMEZONE
TZID:Europe/London
X-LIC-LOCATION:Europe/London
BEGIN:DAYLIGHT
TZOFFSETFROM:+0000
TZOFFSETTO:+0100
TZNAME:BST
DTSTART:19700329T010000
RRULE:FREQ=YEARLY;BYMONTH=3;BYDAY=-1SU
END:DAYLIGHT
BEGIN:STANDARD
TZOFFSETFROM:+0100
TZOFFSETTO:+0000
TZNAME:GMT
DTSTART:19701025T020000
RRULE:FREQ=YEARLY;BYMONTH=10;BYDAY=-1SU
END:STANDARD
END:VTIMEZONE
BEGIN:VEVENT
UID:6278630:Event:214752
DTSTAMP:20260422T164527Z
SUMMARY:Salsa With Sureka Online Course
DESCRIPTION:Our new 6 Week SALSA Course starts on 17 Feb!\n\nNo pressu
 re, no partner necessary, just FUN! All welcome \n\n\nGrab your EARLY 
 BIRD DISCOUNT now. Book by 31 Jan to get 6 weeks for £45.\n\n\nTo Boo
 k/ for more info, call Sureka on 07984 136 961 or email bookings@salsa
 withsureka.com\n\n\nhttps://www.facebook.com/events/445568413296397\n\
 n\n\nFor more information visit https://bowesandbounds.org/events/sals
 a-with-sureka-online-course-2
DTSTART;TZID=Europe/London:20210217T190000
DTEND;TZID=Europe/London:20210217T200000
CATEGORIES:salsa, classes
LOCATION:Online
WEBSITE:http://www.salsawithsureka.com
URL:http://www.salsawithsureka.com
CONTACT:+447984136961
ORGANIZER;CN="Sureka Fernando":https://bowesandbounds.org/profile/Sure
 kaFernando
ATTACH;FMTTYPE="image/jpeg":https://storage.ning.com/topology/rest/1.0
 /file/get/8440439055?profile=original
ATTENDEE;ROLE=REQ-PARTICIPANT;PARTSTAT=ACCEPTED;RSVP=TRUE;CN="Sureka F
 ernando":https://bowesandbounds.org/profile/SurekaFernando
END:VEVENT
END:VCALENDAR
