BEGIN:VCALENDAR
PRODID:NingEventWidget-v1
VERSION:2.0
METHOD:PUBLISH
BEGIN:VTIMEZONE
TZID:Europe/London
X-LIC-LOCATION:Europe/London
BEGIN:DAYLIGHT
TZOFFSETFROM:+0000
TZOFFSETTO:+0100
TZNAME:BST
DTSTART:19700329T010000
RRULE:FREQ=YEARLY;BYMONTH=3;BYDAY=-1SU
END:DAYLIGHT
BEGIN:STANDARD
TZOFFSETFROM:+0100
TZOFFSETTO:+0000
TZNAME:GMT
DTSTART:19701025T020000
RRULE:FREQ=YEARLY;BYMONTH=10;BYDAY=-1SU
END:STANDARD
END:VTIMEZONE
BEGIN:VEVENT
UID:6278630:Event:235042
DTSTAMP:20260422T152420Z
SUMMARY:Salsa With Sureka Online Course
DESCRIPTION:NEWSFLASH:- Our next SALSA Course starts on 7 March.\n\n\n
 Join us to have fun, get fit and dance for joy!\n\n\n Early Bird Deadl
 ine! \nBook by 31 March to get 12 weeks for just £80/ 6 weeks for £4
 5.\n\n\nYou can also do drop-in classes anytime for £10.\n\n\nWant FR
 EE Classes?\nFREE classes are available for 2 students in exchange for
  (easy) Social Media work. (Full training is given and the work can be
  done from home.) You must be enthusiastic, reliable and web-savvy.\n\
 n\nTo book/ For more info, call Sureka on 07984 136 961 or email booki
 ngs@salsawithsureka.com\n\n\nHope to see you on the dance floor!\nhttp
 s://www.facebook.com/events/210057837566643\n\n\n\nFor more informatio
 n visit https://bowesandbounds.org/events/salsa-with-sureka-online-cou
 rse-4
DTSTART;TZID=Europe/London:20210407T190000
DTEND;TZID=Europe/London:20210407T200000
CATEGORIES:online, salsa
LOCATION:Online
WEBSITE:http://www.salsawithsureka.com
URL:http://www.salsawithsureka.com
CONTACT:+447984136961
ORGANIZER;CN="Sureka Fernando":https://bowesandbounds.org/profile/Sure
 kaFernando
ATTACH;FMTTYPE="image/jpeg":https://storage.ning.com/topology/rest/1.0
 /file/get/8695408077?profile=original
ATTENDEE;ROLE=REQ-PARTICIPANT;PARTSTAT=ACCEPTED;RSVP=TRUE;CN="Sureka F
 ernando":https://bowesandbounds.org/profile/SurekaFernando
END:VEVENT
END:VCALENDAR
