BEGIN:VCALENDAR
PRODID:NingEventWidget-v1
VERSION:2.0
METHOD:PUBLISH
BEGIN:VTIMEZONE
TZID:Europe/London
X-LIC-LOCATION:Europe/London
BEGIN:DAYLIGHT
TZOFFSETFROM:+0000
TZOFFSETTO:+0100
TZNAME:BST
DTSTART:19700329T010000
RRULE:FREQ=YEARLY;BYMONTH=3;BYDAY=-1SU
END:DAYLIGHT
BEGIN:STANDARD
TZOFFSETFROM:+0100
TZOFFSETTO:+0000
TZNAME:GMT
DTSTART:19701025T020000
RRULE:FREQ=YEARLY;BYMONTH=10;BYDAY=-1SU
END:STANDARD
END:VTIMEZONE
BEGIN:VEVENT
UID:6278630:Event:235604
DTSTAMP:20260422T142511Z
SUMMARY:Salsa With Sureka Online Course
DESCRIPTION:GREAT NEWS!!\n\n\nSalsa With Sureka will be back at Bounds
  Green School from September 8!\n\n\nGet ready for the dancefloor with
  our last Zoom Salsa Course starting this Wednesday AND get a discount
  off our face-to-face classes when you book!\n\n\nhttps://www.facebook
 .com/events/287436006394964/\n\nhttps://www.facebook.com/events/456095
 8273935100\n\n\n. EARLY BIRD OFFER \n\nBook our 6-Week Zoom Salsa Cour
 se starting Weds 19 May and get 10% off our Autumn Season face-to-face
  classes!\n\n\nFor more info/ To book: Call Sureka on 07984 136 961 or
  email bookings@salsawithsureka.com\n\n\nFor more information visit ht
 tps://bowesandbounds.org/events/salsa-with-sureka-online-course-6
DTSTART;TZID=Europe/London:20210519T190000
DTEND;TZID=Europe/London:20210519T200000
CATEGORIES:online, salsa, course
LOCATION:Online
WEBSITE:http://www.salsawithsureka.com
URL:http://www.salsawithsureka.com
CONTACT:+447984136961
ORGANIZER;CN="Sureka Fernando":https://bowesandbounds.org/profile/Sure
 kaFernando
ATTACH;FMTTYPE="image/jpeg":https://storage.ning.com/topology/rest/1.0
 /file/get/8941547673?profile=original
ATTENDEE;ROLE=REQ-PARTICIPANT;PARTSTAT=ACCEPTED;RSVP=TRUE;CN="Sureka F
 ernando":https://bowesandbounds.org/profile/SurekaFernando
END:VEVENT
END:VCALENDAR
