BEGIN:VCALENDAR
PRODID:NingEventWidget-v1
VERSION:2.0
METHOD:PUBLISH
BEGIN:VTIMEZONE
TZID:Europe/London
X-LIC-LOCATION:Europe/London
BEGIN:DAYLIGHT
TZOFFSETFROM:+0000
TZOFFSETTO:+0100
TZNAME:BST
DTSTART:19700329T010000
RRULE:FREQ=YEARLY;BYMONTH=3;BYDAY=-1SU
END:DAYLIGHT
BEGIN:STANDARD
TZOFFSETFROM:+0100
TZOFFSETTO:+0000
TZNAME:GMT
DTSTART:19701025T020000
RRULE:FREQ=YEARLY;BYMONTH=10;BYDAY=-1SU
END:STANDARD
END:VTIMEZONE
BEGIN:VEVENT
UID:6278630:Event:123419
DTSTAMP:20260423T200356Z
SUMMARY:Samaritans Calling @ Karamel Club, London Sun 11th June
DESCRIPTION:Sun 11th Jun at 8:00pm\nSamaritans Calling @ Karamel Club,
  London\nFeaturing: Oliver Hoare And The Late Great, The Phoenix Colle
 ctive, Katie Brayben, Matt Rawle, Daisy Maywood, Danny Horn, Megan Lei
 gh Mason, Fra Fee\nhttps://www.ents24.com/london-events/karamel-club/s
 amaritans-calling/5027283\n\n\n\nFor more information visit https://bo
 wesandbounds.org/events/samaritans-calling-karamel-club-london-sun-11t
 h-june
DTSTART;TZID=Europe/London:20170611T200000
DTEND;TZID=Europe/London:20170611T230000
CATEGORIES:fundraiser
LOCATION:Karamel Club Address: Chocolate Factory 2 4 Coburg Road, Wood
  Green London	 N22 6UJ
WEBSITE:https://www.ents24.com/london-events/karamel-club/samaritans-c
 alling/5027283
URL:https://www.ents24.com/london-events/karamel-club/samaritans-calli
 ng/5027283
CONTACT:
ORGANIZER;CN="North London Samaritans":https://bowesandbounds.org/prof
 ile/NorthLondonSamaritans283
ATTACH;FMTTYPE="image/jpeg":
ATTENDEE;ROLE=REQ-PARTICIPANT;PARTSTAT=ACCEPTED;RSVP=TRUE;CN="North Lo
 ndon Samaritans":https://bowesandbounds.org/profile/NorthLondonSamarit
 ans283
ATTENDEE;ROLE=REQ-PARTICIPANT;PARTSTAT=ACCEPTED;RSVP=TRUE;CN="Emma Kil
 lick":https://bowesandbounds.org/profile/EmmaKillick
END:VEVENT
END:VCALENDAR
