BEGIN:VCALENDAR
PRODID:NingEventWidget-v1
VERSION:2.0
METHOD:PUBLISH
BEGIN:VTIMEZONE
TZID:Europe/London
X-LIC-LOCATION:Europe/London
BEGIN:DAYLIGHT
TZOFFSETFROM:+0000
TZOFFSETTO:+0100
TZNAME:BST
DTSTART:19700329T010000
RRULE:FREQ=YEARLY;BYMONTH=3;BYDAY=-1SU
END:DAYLIGHT
BEGIN:STANDARD
TZOFFSETFROM:+0100
TZOFFSETTO:+0000
TZNAME:GMT
DTSTART:19701025T020000
RRULE:FREQ=YEARLY;BYMONTH=10;BYDAY=-1SU
END:STANDARD
END:VTIMEZONE
BEGIN:VEVENT
UID:6278630:Event:121544
DTSTAMP:20260424T233920Z
SUMMARY:SAPL AGM
DESCRIPTION:We warmly invite you to the SAPL (Supporters of Alexandra 
 Park Library)  Annual General Meeting. at the above date and time.
  Refreshments will be served, there will be a piano recital, and a qu
 iz with prizes.\nAgenda:\n- Chairs Report\n- Officers Reports - Secret
 ary, Treasurer, Membership, Events\n- Election of new Officers\n\nBut 
 we need new blood: We urgently need new people to become involved. Let
  us know if you would like to join the committe or become involved i
 n some way. You will be warmly welcomed. \n\nRenewal of membership: 
 We invite you to renew your membership at this time, membership is fro
 m 1st April till 31st March each year, £5.00 annual membership.
  This enables us to organise various activities throughout the year. 
 \n\nCurrent activities include: Monthly Singing group, Italian Class, 
 Poetry Reading. \nPossible future activities could include: A walking
  group, Mindufulness, Bridge, Computing, setting up a U3A\n\nA brief r
 eminder of the role of SAPL - to promote and encourage libraray use, t
 o be a focal point for the local community and to act as a commuicatio
 n channel with the local authority in this period of austerity when li
 brary budgets are under threat.\n\nWe look forward to meeting you at
  the AGM.\n\nFor more information visit https://bowesandbounds.org/ev
 ents/sapl-agm
DTSTART;TZID=Europe/London:20170323T170000
DTEND;TZID=Europe/London:20170323T190000
CATEGORIES:agm
LOCATION:Alexandra Park Library
WEBSITE:
URL:
CONTACT:
ORGANIZER;CN="soulla katsiani":https://bowesandbounds.org/profile/soul
 lakatsiani
ATTACH;FMTTYPE="image/jpeg":http://storage.ning.com/topology/rest/1.0/
 file/get/2287317306?profile=original
ATTENDEE;ROLE=REQ-PARTICIPANT;PARTSTAT=ACCEPTED;RSVP=TRUE;CN="soulla k
 atsiani":https://bowesandbounds.org/profile/soullakatsiani
END:VEVENT
END:VCALENDAR
