BEGIN:VCALENDAR
PRODID:NingEventWidget-v1
VERSION:2.0
METHOD:PUBLISH
BEGIN:VTIMEZONE
TZID:Europe/London
X-LIC-LOCATION:Europe/London
BEGIN:DAYLIGHT
TZOFFSETFROM:+0000
TZOFFSETTO:+0100
TZNAME:BST
DTSTART:19700329T010000
RRULE:FREQ=YEARLY;BYMONTH=3;BYDAY=-1SU
END:DAYLIGHT
BEGIN:STANDARD
TZOFFSETFROM:+0100
TZOFFSETTO:+0000
TZNAME:GMT
DTSTART:19701025T020000
RRULE:FREQ=YEARLY;BYMONTH=10;BYDAY=-1SU
END:STANDARD
END:VTIMEZONE
BEGIN:VEVENT
UID:6278630:Event:129633
DTSTAMP:20260425T143306Z
SUMMARY:Saturday Morning English Classes in North London
DESCRIPTION:SATURDAY MORNING ENGLISH CLASSES IN NORTH LONDONThe classe
 s are perfect for Intermediate/ Upper Intermediate Students (B1-B2). L
 earn English fast at Gabriella English Language School! You will have 
 fun learning in a small group (maximum 6 students) with a highly quali
 fied and experienced native English teacher.**************************
 *********COURSE DESCRIPTIONYou will learn: - To understand and discuss
  familiar topics such as hobbies, travel, work and lifestyle using the
  correct vocabulary, grammar and pronunciation. - To deal with most si
 tuations arising from every day life in London including shopping, ban
 king, telephone calls, emails and more. - To express opinions, ambitio
 ns and ideas about the past, present and future. *********************
 *****************COURSE DETAILSDAYS: SaturdaysTIMES: 10.30am-12.30pm (
 2 hours a week) COURSE DATES: 13 Jan - 31 Mar 2018PRICES: £12 per hou
 r (drop-in)£10 an hour (paid monthly)First hour FREE!**Advanced booki
 ng essential. Call Sureka on 07984 136 961 VENUE: Gabriella English La
 nguage School, Brownlow Road, London N11 *****************************
 ********* PRIVATE LESSONS We also offer Private Lessons in FCE/ IELTS/
  CPE Examination Preparation, Accent Reduction, Business English, Begi
 nner/ Elementary English and other topics by arrangement. Times are fl
 exible to suit your individual needs. ********************************
 ***** WHY US? ✴️ Fun, Communicative Lessons ✴️ Highly Qualifie
 d Experienced Native English Teacher ✴️ Maximum 6 Students ✴️ 
 More Individual Attention ✴️ Faster Progress ✴️ Great Prices *
 **************************************TESTIMONIALS: \"Hi Sureka, I jus
 t wanted to tell you that I got the result of my first assessment at U
 ni and I got an A. That wouldn't be possible without your help. It was
  a grammar test for my writing module. You're an amazing teacher and I
  just wanted to thank you.\" - Francesca Cintura, Italy \"Sureka made 
 the lessons entertaining which kept the pupils involved. We learned qu
 ickly with her and the ambient of the class was awesome!\" - Elias Gar
 cia, Spain \"Sureka is an excellent teacher, knowledgeable, kind and u
 nderstandable to me and she presented lessons very easily. I made good
  progress which helps me in my work. I hope to come back to London and
  do her classes again.\" - Dinachka Kochkina, Georgia ****************
 ************************ TO BOOK/ FOR MORE INFOCall Sureka on 07984 13
 6 961 or email gabriella.englishschool@gmail.comI look forward to welc
 oming you to Gabriella English Language School!Sureka FernandoDirector
 Gabriella English Language School+44 (0) 7984 136 961gabriella.english
 school@gmail.com\n\nFor more information visit https://bowesandbounds.
 org/events/saturday-morning-english-classes-in-north-london-10
DTSTART;TZID=Europe/London:20180113T103000
DTEND;TZID=Europe/London:20180127T123000
CATEGORIES:saturday, english, classes, bounds, green, n11, north, lond
 on
LOCATION:Gabriella English Language School
WEBSITE:https://www.facebook.com/GabriellaSchool/
URL:https://www.facebook.com/GabriellaSchool/
CONTACT:07984 136 961
ORGANIZER;CN="Sureka Fernando":https://bowesandbounds.org/profile/Sure
 kaFernando
ATTACH;FMTTYPE="image/jpeg":http://storage.ning.com/topology/rest/1.0/
 file/get/2287317718?profile=original
ATTENDEE;ROLE=REQ-PARTICIPANT;PARTSTAT=ACCEPTED;RSVP=TRUE;CN="Sureka F
 ernando":https://bowesandbounds.org/profile/SurekaFernando
END:VEVENT
END:VCALENDAR
