BEGIN:VCALENDAR
PRODID:NingEventWidget-v1
VERSION:2.0
METHOD:PUBLISH
BEGIN:VTIMEZONE
TZID:Europe/London
X-LIC-LOCATION:Europe/London
BEGIN:DAYLIGHT
TZOFFSETFROM:+0000
TZOFFSETTO:+0100
TZNAME:BST
DTSTART:19700329T010000
RRULE:FREQ=YEARLY;BYMONTH=3;BYDAY=-1SU
END:DAYLIGHT
BEGIN:STANDARD
TZOFFSETFROM:+0100
TZOFFSETTO:+0000
TZNAME:GMT
DTSTART:19701025T020000
RRULE:FREQ=YEARLY;BYMONTH=10;BYDAY=-1SU
END:STANDARD
END:VTIMEZONE
BEGIN:VEVENT
UID:6278630:Event:125711
DTSTAMP:20260425T003459Z
SUMMARY:Satvik Yoga
DESCRIPTION:Class Starting 4 September 2017 - \nMondays 10.30 – 12.
 00\nThe class offers a range of yoga postures and breathing practices 
 through different themes. There is a focus on being aware of the uniqu
 eness of our body and how the breath can help us bring calm in our dai
 ly life.\nMy class is a combination of physical practice, breath contr
 ol, balance and proper alignment, chanting Mantra, reflection and rela
 xation. I use a step by step approach with clear instructions and demo
 nstration to build up both strength and flexibility.\nYoga is a contin
 uous journey. You learn and experience something new as you go along. 
 I invite you to experience and share this journey with me as my studen
 t, friend and companion. \nContact me via E-mail - bulbuli3056@aol.co
 m Or Phone - 07417 578847\nNamaste\n\n\nFor more information visit htt
 ps://bowesandbounds.org/events/satvik-yoga
DTSTART;TZID=Europe/London:20170904T103000
DTEND;TZID=Europe/London:20170904T120000
CATEGORIES:health, and, well, being
LOCATION:Bounds Green Bowles and Tennis club
WEBSITE:
URL:
CONTACT:07417 578847
ORGANIZER;CN="Anulekha Sinha":https://bowesandbounds.org/profile/Anule
 khaSinha
ATTACH;FMTTYPE="image/jpeg":
ATTENDEE;ROLE=REQ-PARTICIPANT;PARTSTAT=ACCEPTED;RSVP=TRUE;CN="Anulekha
  Sinha":https://bowesandbounds.org/profile/AnulekhaSinha
END:VEVENT
END:VCALENDAR
