BEGIN:VCALENDAR
PRODID:NingEventWidget-v1
VERSION:2.0
METHOD:PUBLISH
BEGIN:VTIMEZONE
TZID:Europe/London
X-LIC-LOCATION:Europe/London
BEGIN:DAYLIGHT
TZOFFSETFROM:+0000
TZOFFSETTO:+0100
TZNAME:BST
DTSTART:19700329T010000
RRULE:FREQ=YEARLY;BYMONTH=3;BYDAY=-1SU
END:DAYLIGHT
BEGIN:STANDARD
TZOFFSETFROM:+0100
TZOFFSETTO:+0000
TZNAME:GMT
DTSTART:19701025T020000
RRULE:FREQ=YEARLY;BYMONTH=10;BYDAY=-1SU
END:STANDARD
END:VTIMEZONE
BEGIN:VEVENT
UID:6278630:Event:85035
DTSTAMP:20260422T135746Z
SUMMARY:Scarecrow Festival
DESCRIPTION:Muswell Hill Scarecrow Festival takes place on Avenue Mews
  between October 30th and November 1st 2014\n\nThe Mews (also known as
  the 'creative hub of Muswell Hill' with its art spaces and vintage sh
 ops) will be atmospherically decked with scarecrows made by local arti
 sts, residents, schools and community groups.\n\nThe festival is inspi
 red by rural folk art festivals where villagers make scarecrows and ex
 hibit them in front gardens and communal spaces. We hope to evoke the 
 the spirit of old rural Britain with it's curious festivals and quirky
  folk rituals dating back to days of old. All just in time for the Hal
 loween and Guy Fawkes night celebrations. Perfect for those in area fo
 r the Alexandra Palace Fireworks display in the evening.\n\n\n\nFor mo
 re information visit https://bowesandbounds.org/events/scarecrow-festi
 val
DTSTART;TZID=Europe/London:20141030T000000
DTEND;TZID=Europe/London:20141101T235900
CATEGORIES:festival
LOCATION:Muswell Hill
WEBSITE:https://www.bing.com/maps/default.aspx?v=2&pc=FACEBK&mid=8100&
 rtp=adr.~pos.51.590695912_-0.143645118441_Avenue+Mews+-+Muswell+Hill_A
 venue+Mews%2C+N10+3NP+London%2C+United+Kingdom&cp=51.590695912~-0.1436
 45118441&lvl=16&sty=r&rtop=0~0~0~&mode=D&FORM=FBKPL1&mkt=en-GB
URL:https://www.bing.com/maps/default.aspx?v=2&pc=FACEBK&mid=8100&rtp=
 adr.~pos.51.590695912_-0.143645118441_Avenue+Mews+-+Muswell+Hill_Avenu
 e+Mews%2C+N10+3NP+London%2C+United+Kingdom&cp=51.590695912~-0.14364511
 8441&lvl=16&sty=r&rtop=0~0~0~&mode=D&FORM=FBKPL1&mkt=en-GB
CONTACT:
ORGANIZER;CN=Administrator:https://bowesandbounds.org/profile/Administ
 rator
ATTACH;FMTTYPE="image/jpeg":http://storage.ning.com/topology/rest/1.0/
 file/get/2287272838?profile=original
ATTENDEE;ROLE=REQ-PARTICIPANT;PARTSTAT=ACCEPTED;RSVP=TRUE;CN=Administr
 ator:https://bowesandbounds.org/profile/Administrator
END:VEVENT
END:VCALENDAR
