BEGIN:VCALENDAR
PRODID:NingEventWidget-v1
VERSION:2.0
METHOD:PUBLISH
BEGIN:VTIMEZONE
TZID:Europe/London
X-LIC-LOCATION:Europe/London
BEGIN:DAYLIGHT
TZOFFSETFROM:+0000
TZOFFSETTO:+0100
TZNAME:BST
DTSTART:19700329T010000
RRULE:FREQ=YEARLY;BYMONTH=3;BYDAY=-1SU
END:DAYLIGHT
BEGIN:STANDARD
TZOFFSETFROM:+0100
TZOFFSETTO:+0000
TZNAME:GMT
DTSTART:19701025T020000
RRULE:FREQ=YEARLY;BYMONTH=10;BYDAY=-1SU
END:STANDARD
END:VTIMEZONE
BEGIN:VEVENT
UID:6278630:Event:81295
DTSTAMP:20260422T091622Z
SUMMARY:Scented pomanders
DESCRIPTION:Drop in to our Bruce Castle Summer Holiday Activities. Lea
 rn how herbs have been used medicinally and make a herb bag to take ho
 me. In addition to the art and craft activities there will also be han
 ds-on gardening activities! All activities free and aimed at children 
 aged 5+.Under 8s must be with an adult.Drop in 2pm-4pmKindly supported
  by Awards for All, the Friends of Bruce Castle and Groundwork.\n\nFor
  more information visit https://bowesandbounds.org/events/scented-poma
 nders
DTSTART;TZID=Europe/London:20140822T140000
DTEND;TZID=Europe/London:20140822T160000
CATEGORIES:"children's", summer, holiday, activities
LOCATION:Bruce Castle Museum
WEBSITE:http://www.haringey.gov.uk/brucecastlemuseum
URL:http://www.haringey.gov.uk/brucecastlemuseum
CONTACT:020 8808 8772
ORGANIZER;CN="Mark Wells":https://bowesandbounds.org/profile/MarkWells
ATTACH;FMTTYPE="image/jpeg":http://storage.ning.com/topology/rest/1.0/
 file/get/2287266629?profile=original
ATTENDEE;ROLE=REQ-PARTICIPANT;PARTSTAT=ACCEPTED;RSVP=TRUE;CN="Mark Wel
 ls":https://bowesandbounds.org/profile/MarkWells
END:VEVENT
END:VCALENDAR
