BEGIN:VCALENDAR
PRODID:NingEventWidget-v1
VERSION:2.0
METHOD:PUBLISH
BEGIN:VTIMEZONE
TZID:Europe/London
X-LIC-LOCATION:Europe/London
BEGIN:DAYLIGHT
TZOFFSETFROM:+0000
TZOFFSETTO:+0100
TZNAME:BST
DTSTART:19700329T010000
RRULE:FREQ=YEARLY;BYMONTH=3;BYDAY=-1SU
END:DAYLIGHT
BEGIN:STANDARD
TZOFFSETFROM:+0100
TZOFFSETTO:+0000
TZNAME:GMT
DTSTART:19701025T020000
RRULE:FREQ=YEARLY;BYMONTH=10;BYDAY=-1SU
END:STANDARD
END:VTIMEZONE
BEGIN:VEVENT
UID:6278630:Event:110932
DTSTAMP:20260419T145520Z
SUMMARY:Scout Jumble Sale 23rd Southgate
DESCRIPTION:\n\n\n\n23rd Southgate Scout Jumble Sale coming soon. Coll
 ections can be arranged see below\nJumble Sale doors open at 14:15 Scr
 umptious Refreshments available.\nPlease note that there is no off str
 eet parking. Disabled access and disabled facilities available Bus Rou
 te W9 serves Cranley Garden, nearby every 15 minutes from Southgate LU
 L and Enfield Town. \nW09%20full%20timetable.pdf\nArrangements can be
  made for donation offers to be collected up to evening of 21st April.
  No furniture or electrical items Telephone messages to \"Cara\" at 02
 0 8886 1223\n\n\n\nFor more information visit https://bowesandbounds.o
 rg/events/scout-jumble-sale-23rd-southgate-2
DTSTART;TZID=Europe/London:20160423T141500
DTEND;TZID=Europe/London:20160423T163000
CATEGORIES:"jumble sale"
LOCATION:Burford Hall Palmers Green United Reformed Church
WEBSITE:http://www.palmersgreenurc.org.uk/
URL:http://www.palmersgreenurc.org.uk/
CONTACT:
ORGANIZER;CN="Donald Smith":https://bowesandbounds.org/profile/DonaldS
 mith
ATTACH;FMTTYPE="image/jpeg":
ATTENDEE;ROLE=REQ-PARTICIPANT;PARTSTAT=ACCEPTED;RSVP=TRUE;CN="Donald S
 mith":https://bowesandbounds.org/profile/DonaldSmith
END:VEVENT
END:VCALENDAR
