BEGIN:VCALENDAR
PRODID:NingEventWidget-v1
VERSION:2.0
METHOD:PUBLISH
BEGIN:VTIMEZONE
TZID:Europe/London
X-LIC-LOCATION:Europe/London
BEGIN:DAYLIGHT
TZOFFSETFROM:+0000
TZOFFSETTO:+0100
TZNAME:BST
DTSTART:19700329T010000
RRULE:FREQ=YEARLY;BYMONTH=3;BYDAY=-1SU
END:DAYLIGHT
BEGIN:STANDARD
TZOFFSETFROM:+0100
TZOFFSETTO:+0000
TZNAME:GMT
DTSTART:19701025T020000
RRULE:FREQ=YEARLY;BYMONTH=10;BYDAY=-1SU
END:STANDARD
END:VTIMEZONE
BEGIN:VEVENT
UID:6278630:Event:40275
DTSTAMP:20260422T041349Z
SUMMARY:Screen Wood Green Film Society: Bicycle Thief
DESCRIPTION:Screening of Academy Award winner masterpiece movie \"Bicy
 cle Thief\" at Screen Wood Green (SWG) Film Club at Wood Green Asian C
 entre on 18 May 2012 at 6:30 pm The yearly membership is £25.  How
 ever, ticket for viewing the film as our guest is £4.00 Short Film:
   Skin Deep  Director: Yousaf Ali Khan, UKDate 2001Duration: 13 min
 s\nSkin Deep is a film about the internal struggle of Rashid, a mixed-
 race teenager trying to rise to prominence.Like Rashid, Ali Khan himse
 lf is mixed-race and grew up on an all-white housing estate, at a time
  when the National Front was at its most powerful.Skin Deep examines h
 ow Rashid attempts to hide his Asian side to fit in with his contempor
 aries, going as far as joining a violent gang of racists.\nFeature Fil
 m:  The Bicycle Thief  Director: Vittorio De SicaDate: 1948Duration 
 93 MinutesIt is the most powerful, masterpiece of a movie ever made an
 d is an Academy Award winner for being an outstanding film of the year
 ).  (subtitled in English).  \n\n\nFor more information visit htt
 ps://bowesandbounds.org/events/screen-wood-green-film-society-bicycle-
 thief
DTSTART;TZID=Europe/London:20120518T183000
DTEND;TZID=Europe/London:20120518T220000
CATEGORIES:film, cinema
LOCATION:Asian Centre
WEBSITE:http://www.asiancentre.co.uk/
URL:http://www.asiancentre.co.uk/
CONTACT:020 8889 6938
ORGANIZER;CN=Administrator:https://bowesandbounds.org/profile/Administ
 rator
ATTACH;FMTTYPE="image/jpeg":http://storage.ning.com/topology/rest/1.0/
 file/get/2287233346?profile=original
ATTENDEE;ROLE=REQ-PARTICIPANT;PARTSTAT=ACCEPTED;RSVP=TRUE;CN=Administr
 ator:https://bowesandbounds.org/profile/Administrator
END:VEVENT
END:VCALENDAR
