BEGIN:VCALENDAR
PRODID:NingEventWidget-v1
VERSION:2.0
METHOD:PUBLISH
BEGIN:VTIMEZONE
TZID:Europe/London
X-LIC-LOCATION:Europe/London
BEGIN:DAYLIGHT
TZOFFSETFROM:+0000
TZOFFSETTO:+0100
TZNAME:BST
DTSTART:19700329T010000
RRULE:FREQ=YEARLY;BYMONTH=3;BYDAY=-1SU
END:DAYLIGHT
BEGIN:STANDARD
TZOFFSETFROM:+0100
TZOFFSETTO:+0000
TZNAME:GMT
DTSTART:19701025T020000
RRULE:FREQ=YEARLY;BYMONTH=10;BYDAY=-1SU
END:STANDARD
END:VTIMEZONE
BEGIN:VEVENT
UID:6278630:Event:246478
DTSTAMP:20260425T211937Z
SUMMARY:Selected Bagatelle from Baroque, Romantic, Opera &amp; World F
 olk Songs - Violin Duets by Constance Hsieh &amp; Jacqueline Chen
DESCRIPTION:Ming-Ai (London) Institute has been serving the community 
 for more than 30 years since it was established in 1993. As one of fam
 ily members situated in the area of Bowes Park and Bounds Green Neighb
 ourhoods, we aim to organise more cultural events for our community. I
 n celebration of the Year of the Dragon and the Lantern Festival, Ming
 -Ai (London) Institute will host “Selected Bagatelle from Baroque, R
 omantic, Opera & World Folk Songs - Violin Duets by Constance Hsieh & 
 Jacqueline Chen” on 29/2/2024 at Ming-Ai (London) Institute. Join us
  in celebrating the festival, and may it bring warm festive vibes to y
 ou all.  Les Musicales de Bagatelle\nDate: 29/2/2024 (Thursday)\nTime:
  11:00 - 12:00 Violin Recital  12:00 - 13:00 Pot Luck Lunch Party\n(Pl
 ease bring a main dish to share with others, and we will provide tea a
 nd cutlery.)\nLocation: Ming-Ai (London) Institute, 1 Cline Road, Boun
 ds Green, London N11 2LX\nRegistration: https://forms.office.com/e/hHy
 djNREmx?origin=lprLink \n---------------------------------------------
 -- Musicians’ information  Constance Hsieh\nConstance Hsieh, a found
 ing member as advance string professor of the Emirati Musicians Associ
 ation and a collaborative string instrumental musician with Dubai Stei
 nway & Sons. She was recruited be Dubai art Academic researcher in 202
 1 and has been engaging at the field of arts construction and educatio
 n. She has being nominated as judge of numerous international competit
 ions and publishing in international journals. Constance invented her 
 violin paradigm pedagogy in teaching method at the Central Conservator
 y of Music in Beijing from 2012 to 2021. Constance is also an interdis
 ciplinary artist combines book art form with other visual and performi
 ng arts with social activism, to addresses social problems for staying
  alone without companionship.    Jacqueline Chen\nJacqueline Chen is 
 a 13-year-old student from Taiwan, currently studying at Kangqiao Inte
 rnational School. Despite having learned the violin for a short time, 
 she is passionate about both the violin and music. She performed at th
 e opening ceremony of an art exhibition in 2022, which was her first s
 tage performance experience. Since her violin teacher travels around t
 he world to give lectures and performances, Jacqueline, as a student, 
 has been exposed to the cultures and arts of different countries, such
  as the United Kingdom and France. This exposure has deepened her fasc
 ination for music and inspired her ongoing pursuit of musical knowledg
 e. She would like to gain confidence in sharing her music with others 
 and to continue enhancing her skills through more violin performance e
 xperiences.\n\nFor more information visit https://bowesandbounds.org/e
 vents/selected-bagatelle-from-baroque-romantic-opera-amp-world-folk
DTSTART;TZID=Europe/London:20240229T110000
DTEND;TZID=Europe/London:20240229T130000
CATEGORIES:free, concert
LOCATION:Ming-Ai (London) Institute
WEBSITE:https://www.facebook.com/Ming.Ai.Institute/
URL:https://www.facebook.com/Ming.Ai.Institute/
CONTACT:+44 02083617161
ORGANIZER;CN="Ying Gao":https://bowesandbounds.org/profile/YingGao47
ATTACH;FMTTYPE="image/jpeg":https://storage.ning.com/topology/rest/1.0
 /file/get/12382713277?profile=original
ATTENDEE;ROLE=REQ-PARTICIPANT;PARTSTAT=ACCEPTED;RSVP=TRUE;CN="Ying Gao
 ":https://bowesandbounds.org/profile/YingGao47
END:VEVENT
END:VCALENDAR
