BEGIN:VCALENDAR
PRODID:NingEventWidget-v1
VERSION:2.0
METHOD:PUBLISH
BEGIN:VTIMEZONE
TZID:Europe/London
X-LIC-LOCATION:Europe/London
BEGIN:DAYLIGHT
TZOFFSETFROM:+0000
TZOFFSETTO:+0100
TZNAME:BST
DTSTART:19700329T010000
RRULE:FREQ=YEARLY;BYMONTH=3;BYDAY=-1SU
END:DAYLIGHT
BEGIN:STANDARD
TZOFFSETFROM:+0100
TZOFFSETTO:+0000
TZNAME:GMT
DTSTART:19701025T020000
RRULE:FREQ=YEARLY;BYMONTH=10;BYDAY=-1SU
END:STANDARD
END:VTIMEZONE
BEGIN:VEVENT
UID:6278630:Event:245573
DTSTAMP:20260421T100114Z
SUMMARY:Sensing a Place - hands on heritage for people living with dem
 entia and their carers | Bruce Castle
DESCRIPTION:Thursday, 16th November 2023, 10.30am to 12.30pm\nJoin us 
 at Bruce Castle for morning tea and the opportunity to look at our col
 lections and share stories.\nYou’ll be able to chat and enjoy refres
 hments in a safe and welcoming environment.\nNovember's theme is: Film
 , TV & Theatre. \nFor any queries please email: museum.services@harin
 gey.gov.uk\nAlternatively, call us on 020 8489 4250 and select 'option
  2'\n\n\n\nFor more information visit https://bowesandbounds.org/event
 s/sensing-a-place-hands-on-heritage-for-people-living-with-dement-1
DTSTART;TZID=Europe/London:20231116T103000
DTEND;TZID=Europe/London:20231116T123000
CATEGORIES:reminiscence
LOCATION:Bruce Castle Museum
WEBSITE:https://www.brucecastle.org/events/sensing-place-hands-heritag
 e-people-living-dementia-and-their-carers-0
URL:https://www.brucecastle.org/events/sensing-place-hands-heritage-pe
 ople-living-dementia-and-their-carers-0
CONTACT:02084894250
ORGANIZER:museum.services@haringey.gov.uk
ATTACH;FMTTYPE="image/jpeg":https://storage.ning.com/topology/rest/1.0
 /file/get/12289554895?profile=original
ATTENDEE;ROLE=REQ-PARTICIPANT;PARTSTAT=ACCEPTED;RSVP=TRUE;CN="Mark Wel
 ls":https://bowesandbounds.org/profile/MarkWells
END:VEVENT
END:VCALENDAR
