BEGIN:VCALENDAR
PRODID:NingEventWidget-v1
VERSION:2.0
METHOD:PUBLISH
BEGIN:VTIMEZONE
TZID:Europe/London
X-LIC-LOCATION:Europe/London
BEGIN:DAYLIGHT
TZOFFSETFROM:+0000
TZOFFSETTO:+0100
TZNAME:BST
DTSTART:19700329T010000
RRULE:FREQ=YEARLY;BYMONTH=3;BYDAY=-1SU
END:DAYLIGHT
BEGIN:STANDARD
TZOFFSETFROM:+0100
TZOFFSETTO:+0000
TZNAME:GMT
DTSTART:19701025T020000
RRULE:FREQ=YEARLY;BYMONTH=10;BYDAY=-1SU
END:STANDARD
END:VTIMEZONE
BEGIN:VEVENT
UID:6278630:Event:83923
DTSTAMP:20260419T154003Z
SUMMARY:Sensing Nature Walk (Friends of Alexandra Park)
DESCRIPTION:Gordon Peters will lead a 1 hour gentle stroll to give us 
 all the chance to sense the Nature around us in the Park on Saturday,
  4th October, 2014 at 10am. We will stop and listen to the sounds as 
 well as the sights helping us to appreciate our environment. \nMeet at
  the BBC Tower (no booking required).\n\nFor more information visit ht
 tps://bowesandbounds.org/events/sensing-nature-walk-friends-of-alexand
 ra-park
DTSTART;TZID=Europe/London:20141004T100000
DTEND;TZID=Europe/London:20141004T110000
CATEGORIES:nature, trees, green, "friends of parks", "ally pally", "al
 exandra park", "alexandra palace"
LOCATION:Alexandra Park
WEBSITE:http://www.friendsofalexandrapark.org
URL:http://www.friendsofalexandrapark.org
CONTACT:
ORGANIZER;CN="Stephen Middleton":https://bowesandbounds.org/profile/St
 ephenMiddleton
ATTACH;FMTTYPE="image/jpeg":http://storage.ning.com/topology/rest/1.0/
 file/get/2287271529?profile=original
ATTENDEE;ROLE=REQ-PARTICIPANT;PARTSTAT=ACCEPTED;RSVP=TRUE;CN="Stephen 
 Middleton":https://bowesandbounds.org/profile/StephenMiddleton
END:VEVENT
END:VCALENDAR
