BEGIN:VCALENDAR
PRODID:NingEventWidget-v1
VERSION:2.0
METHOD:PUBLISH
BEGIN:VTIMEZONE
TZID:Europe/London
X-LIC-LOCATION:Europe/London
BEGIN:DAYLIGHT
TZOFFSETFROM:+0000
TZOFFSETTO:+0100
TZNAME:BST
DTSTART:19700329T010000
RRULE:FREQ=YEARLY;BYMONTH=3;BYDAY=-1SU
END:DAYLIGHT
BEGIN:STANDARD
TZOFFSETFROM:+0100
TZOFFSETTO:+0000
TZNAME:GMT
DTSTART:19701025T020000
RRULE:FREQ=YEARLY;BYMONTH=10;BYDAY=-1SU
END:STANDARD
END:VTIMEZONE
BEGIN:VEVENT
UID:6278630:Event:246873
DTSTAMP:20260419T193248Z
SUMMARY:Sewing machine confidence boosting workshop! (Making fabric bo
 ok covers or make-up brush/crochet hook holder) Saturday 20th April, 1
 0.30-12pm £40.00
DESCRIPTION:Are you keen to gain confidence with using a sewing machin
 e? You may have come to a previous learn to use a sewing machine class
  and want to work on a next project to increase your skills.\nYou can 
 join this workshop with expert seamstress Pat and make either (or both
 !) a fabric book cover or a make-up brush/ crochet hook holder.\nTurn 
 a plain Jane into something beautiful. Beautify a plain ordinary book 
 into something fabulous with just a few stitches! Create something per
 sonal and individual for yourself or as a gift for a loved one with ou
 r talented seamstress Pat. Please bring along a book you would like to
  cover on the day. You can bring along your own fabric to use or purch
 ase some from our shop before the class starts. Any fabrics would work
  for this project. This is a class for adults able to use a sewing mac
 hine. Light refreshments and biscuits will be provided. All sewing equ
 ipment apart from fabric provided.\nDuration: 1.5 hours\nCost: £40.00
 \nLOCATION: 2 Hazelwood Lane, Palmers Green, N13 5EX\nDATE & TIME: Sat
 urday 20th April, 10.30-12pm\nPlease ensure you have read fully our te
 rms and conditions.\n\n\nFor more information visit https://bowesandbo
 unds.org/events/sewing-machine-confidence-boosting-workshop-making-fab
 ric-book
DTSTART;TZID=Europe/London:20240420T103000
DTEND;TZID=Europe/London:20240420T120000
CATEGORIES:sewing, class
LOCATION:Palmers Green
WEBSITE:https://www.stitch.org.uk/
URL:https://www.stitch.org.uk/
CONTACT:07903 614726
ORGANIZER;CN="Suzanne Kelly":https://bowesandbounds.org/profile/Suzann
 eKelly
ATTACH;FMTTYPE="image/jpeg":https://storage.ning.com/topology/rest/1.0
 /file/get/12421310655?profile=original
ATTENDEE;ROLE=REQ-PARTICIPANT;PARTSTAT=ACCEPTED;RSVP=TRUE;CN="Suzanne 
 Kelly":https://bowesandbounds.org/profile/SuzanneKelly
END:VEVENT
END:VCALENDAR
