BEGIN:VCALENDAR
PRODID:NingEventWidget-v1
VERSION:2.0
METHOD:PUBLISH
BEGIN:VTIMEZONE
TZID:Europe/London
X-LIC-LOCATION:Europe/London
BEGIN:DAYLIGHT
TZOFFSETFROM:+0000
TZOFFSETTO:+0100
TZNAME:BST
DTSTART:19700329T010000
RRULE:FREQ=YEARLY;BYMONTH=3;BYDAY=-1SU
END:DAYLIGHT
BEGIN:STANDARD
TZOFFSETFROM:+0100
TZOFFSETTO:+0000
TZNAME:GMT
DTSTART:19701025T020000
RRULE:FREQ=YEARLY;BYMONTH=10;BYDAY=-1SU
END:STANDARD
END:VTIMEZONE
BEGIN:VEVENT
UID:6278630:Event:69296
DTSTAMP:20260425T212016Z
SUMMARY:Silent Movie Night at the Ally Pally
DESCRIPTION:An event is to support the Alexandra Palace Organ Appeal.\
 nThe appeal exists to raise funds towards the ongoing restoration of
  the Alexandra Palace Organ.delightful,\nSilent Movie Night at the All
 y Pally.\nTuesday November 26th at 7.30pm. Donald Mackenzie of the Ode
 on Leicester Square accompanies the 1926 classic comedy “For Heaven
 s Sake”, starring Harold Lloyd. Donald will be playing the concert
  organ built in 1875 by \"Father\" Henry Willis in the Great Hall of A
 lexandra Palace.\nA family film fun evening. Admission: £10, Friends 
 £7, students free. Palm Court entrance.\nUnderground: Wood Green & W3
  Bus and Finsbury Park & W3 Bus. Nearest Rail: Alexandra Palace Stati
 on.\n\nFor more information visit https://bowesandbounds.org/events/si
 lent-movie-night-at-the-ally-pally
DTSTART;TZID=Europe/London:20131126T193000
DTEND;TZID=Europe/London:20131126T220000
CATEGORIES:music, fundraiser, organ
LOCATION:Alexandra Palace
WEBSITE:http://allypallyorgan.org.uk/index.php
URL:http://allypallyorgan.org.uk/index.php
CONTACT:
ORGANIZER:Administrator
ATTACH;FMTTYPE="image/jpeg":http://storage.ning.com/topology/rest/1.0/
 file/get/2287233131?profile=original
ATTENDEE;ROLE=REQ-PARTICIPANT;PARTSTAT=ACCEPTED;RSVP=TRUE;CN="Richard 
 McKeever":https://bowesandbounds.org/profile/3hwxkqhdde8gc
END:VEVENT
END:VCALENDAR
