BEGIN:VCALENDAR
PRODID:NingEventWidget-v1
VERSION:2.0
METHOD:PUBLISH
BEGIN:VTIMEZONE
TZID:Europe/London
X-LIC-LOCATION:Europe/London
BEGIN:DAYLIGHT
TZOFFSETFROM:+0000
TZOFFSETTO:+0100
TZNAME:BST
DTSTART:19700329T010000
RRULE:FREQ=YEARLY;BYMONTH=3;BYDAY=-1SU
END:DAYLIGHT
BEGIN:STANDARD
TZOFFSETFROM:+0100
TZOFFSETTO:+0000
TZNAME:GMT
DTSTART:19701025T020000
RRULE:FREQ=YEARLY;BYMONTH=10;BYDAY=-1SU
END:STANDARD
END:VTIMEZONE
BEGIN:VEVENT
UID:6278630:Event:63040
DTSTAMP:20260425T165044Z
SUMMARY:Simon Pearsall Cartoonist Exhibition
DESCRIPTION:The Step Gallery’s next exhibition features illustration
 s by professional (and local) cartoonist Simon Pearsall.\nSimon’s wo
 rk appears in Private Eye, The Oldie and The Spectator. His series Fi
 rst Drafts has been running on the Literary Review page of Private Eye
  since 2002. He was awarded Gag Cartoonist of the Year in 2010 by the
  Cartoon Art Trust.\nAll work is for sale.\nExhibition Dates: 30th Jul
 y – 1st September\n\nFor more information visit https://bowesandboun
 ds.org/events/simon-pearsall-cartoonist-exhibition
DTSTART;TZID=Europe/London:20130730T100000
DTEND;TZID=Europe/London:20130901T230000
CATEGORIES:exhibition
LOCATION:The Step
WEBSITE:http://www.thestep.co.uk/
URL:http://www.thestep.co.uk/
CONTACT:020 3302 2412
ORGANIZER;CN="Nell Riches":https://bowesandbounds.org/profile/NellRich
 es
ATTACH;FMTTYPE="image/jpeg":http://storage.ning.com/topology/rest/1.0/
 file/get/2287253580?profile=original
ATTENDEE;ROLE=REQ-PARTICIPANT;PARTSTAT=ACCEPTED;RSVP=TRUE;CN="Nell Ric
 hes":https://bowesandbounds.org/profile/NellRiches
END:VEVENT
END:VCALENDAR
