BEGIN:VCALENDAR
PRODID:NingEventWidget-v1
VERSION:2.0
METHOD:PUBLISH
BEGIN:VTIMEZONE
TZID:Europe/London
X-LIC-LOCATION:Europe/London
BEGIN:DAYLIGHT
TZOFFSETFROM:+0000
TZOFFSETTO:+0100
TZNAME:BST
DTSTART:19700329T010000
RRULE:FREQ=YEARLY;BYMONTH=3;BYDAY=-1SU
END:DAYLIGHT
BEGIN:STANDARD
TZOFFSETFROM:+0100
TZOFFSETTO:+0000
TZNAME:GMT
DTSTART:19701025T020000
RRULE:FREQ=YEARLY;BYMONTH=10;BYDAY=-1SU
END:STANDARD
END:VTIMEZONE
BEGIN:VEVENT
UID:6278630:Event:248535
DTSTAMP:20260426T032322Z
SUMMARY:Sing with Fortismere Community Choir this Autumn!
DESCRIPTION:It's not too late to join us for some joyful singing this 
 term! Rehearsals are just beginning - tonight and the next two rehears
 als are open to anyone wanting to come and try us out. We've got a won
 derful programme of music to rehearse for our Christmas concert, inclu
 ding Britten's beautiful Ceremony of Carols, plus Rutter and Karl Jenk
 ins. We have a wide range of singers, from music teachers to beginners
 . Requirements are just enthusiasm, a love of singing and the ability 
 to learn and hold a tune!\n\nEmail fmcinfo@fortismere.org.uk if intere
 sted, or just come on the day to try us out!\n\nLocation: Music Block,
  Fortismere School, Muswell Hill N10 1NE (entrance through gate on Tet
 herdown).\n\nFor more information visit https://bowesandbounds.org/eve
 nts/sing-with-fortismere-community-choir-this-autumn
DTSTART;TZID=Europe/London:20240911T190000
DTEND;TZID=Europe/London:20240911T210000
CATEGORIES:music
LOCATION:Fortismere Music Centre, Fortismere School
WEBSITE:
URL:
CONTACT:
ORGANIZER;CN="Fortismere Music Centre":https://bowesandbounds.org/prof
 ile/FortismereMusicCentre
ATTACH;FMTTYPE="image/jpeg":https://storage.ning.com/topology/rest/1.0
 /file/get/12935246264?profile=original
ATTENDEE;ROLE=REQ-PARTICIPANT;PARTSTAT=ACCEPTED;RSVP=TRUE;CN="Fortisme
 re Music Centre":https://bowesandbounds.org/profile/FortismereMusicCen
 tre
END:VEVENT
END:VCALENDAR
