BEGIN:VCALENDAR
PRODID:NingEventWidget-v1
VERSION:2.0
METHOD:PUBLISH
BEGIN:VTIMEZONE
TZID:Europe/London
X-LIC-LOCATION:Europe/London
BEGIN:DAYLIGHT
TZOFFSETFROM:+0000
TZOFFSETTO:+0100
TZNAME:BST
DTSTART:19700329T010000
RRULE:FREQ=YEARLY;BYMONTH=3;BYDAY=-1SU
END:DAYLIGHT
BEGIN:STANDARD
TZOFFSETFROM:+0100
TZOFFSETTO:+0000
TZNAME:GMT
DTSTART:19701025T020000
RRULE:FREQ=YEARLY;BYMONTH=10;BYDAY=-1SU
END:STANDARD
END:VTIMEZONE
BEGIN:VEVENT
UID:6278630:Event:140265
DTSTAMP:20260419T135250Z
SUMMARY:Singers' Night at Bowes Park Folk Club
DESCRIPTION:Come to Sing, join in, enjoy.\nCome early and enjoy Mum's 
 Bistro's Mediterranean-inspired menu!\nBounds Green tube (Piccadilly L
 ine) - 5-10 minutes' walk Bowes Park overground station - 1 minute's w
 alk\n£5 admission\n\nFor more information visit https://bowesandbound
 s.org/events/singers-night-at-bowes-park-folk-club-1
DTSTART;TZID=Europe/London:20200305T194500
DTEND;TZID=Europe/London:20200305T230000
CATEGORIES:folk, club
LOCATION:Mum's Bistro,
WEBSITE:http://www.bowesandbounds.org/group/bowes-park-folk-club
URL:http://www.bowesandbounds.org/group/bowes-park-folk-club
CONTACT:07774147296
ORGANIZER:
ATTACH;FMTTYPE="image/jpeg":https://storage.ning.com/topology/rest/1.0
 /file/get/2287326736?profile=original
ATTENDEE;ROLE=REQ-PARTICIPANT;PARTSTAT=ACCEPTED;RSVP=TRUE;CN="Anne Hea
 gney":https://bowesandbounds.org/profile/AnneHeagney
END:VEVENT
END:VCALENDAR
