BEGIN:VCALENDAR
PRODID:NingEventWidget-v1
VERSION:2.0
METHOD:PUBLISH
BEGIN:VTIMEZONE
TZID:Europe/London
X-LIC-LOCATION:Europe/London
BEGIN:DAYLIGHT
TZOFFSETFROM:+0000
TZOFFSETTO:+0100
TZNAME:BST
DTSTART:19700329T010000
RRULE:FREQ=YEARLY;BYMONTH=3;BYDAY=-1SU
END:DAYLIGHT
BEGIN:STANDARD
TZOFFSETFROM:+0100
TZOFFSETTO:+0000
TZNAME:GMT
DTSTART:19701025T020000
RRULE:FREQ=YEARLY;BYMONTH=10;BYDAY=-1SU
END:STANDARD
END:VTIMEZONE
BEGIN:VEVENT
UID:6278630:Event:109638
DTSTAMP:20260424T021822Z
SUMMARY:Small group English classes
DESCRIPTION:Come and join our fun and friendly small group English cla
 sses in Bounds Green, North London - Start any Monday!  An ideal way t
 o improve your speaking, listening, reading and writing in a stimulati
 ng learning environment.Â Our communicative classes are perfect for le
 arners from Elementary (A2) to Advanced (C1).  ***********************
 ********** DAYS: Monday-Friday  TIMES: 10am-1.15pm (3 hours a day incl
 uding a 15 minute break.)  PLACE: Mum's Bistro, 143 Myddleton Road, Lo
 ndon N22 8NG  PRICES (per week) 1 week: Â£135 for 15 hours of tuition 
 10 weeks: Â£125 for 15 hours of tuition 11+ weeks: Â£112.50 for 15 hou
 rs of tuition  WANT A DISCOUNT? *Save Â£10 when you join with a friend
 ! *Save Â£100s when you book 10 + weeks of tuition!   ****************
 ******************  WHY CHOOSE GABRIELLA ENGLISH LANGUAGE SCHOOL?  *Ex
 cellent tuition from a friendly, professional and experienced teacherÂ
   *Fun, communicative small group classes, ideal for learning English 
 fastÂ  *Free access to the very best materialsÂ  *Prices from Â£7.50 a
 n hour\n*Start any Monday!  **************************************  AB
 OUT THE TEACHER:Â   Sureka Fernando is a highly experienced, CELTA-qua
 lified native English teacher with over 10 years' teaching English at 
 all levels.Â  She has an excellent reputation for delivering engaging 
 lessons to help students make fast progress while having fun.Â  Sureka
  named her English School after her daughter, Gabriella, to reflect th
 e love, passion and dedication she has for teaching English.Â   ******
 ******************************** HOW TO BOOK/ FOR MORE INFORMATION  Ca
 ll Sureka on 07984 136 961 or email gabriella.englishschool@gmail.com 
  ***************************  We look forward to welcoming you toÂ Gab
 riella English Language School!\nÂ \n\nFor more information visit http
 s://bowesandbounds.org/events/small-group-english-classes
DTSTART;TZID=Europe/London:20160307T100000
DTEND;TZID=Europe/London:20160307T131500
CATEGORIES:english, classes
LOCATION:Bounds Green
WEBSITE:https://www.facebook.com/gabriellaschool
URL:https://www.facebook.com/gabriellaschool
CONTACT:07984136961
ORGANIZER;CN="Sureka Fernando":https://bowesandbounds.org/profile/Sure
 kaFernando
ATTACH;FMTTYPE="image/jpeg":http://storage.ning.com/topology/rest/1.0/
 file/get/2287311677?profile=original
ATTENDEE;ROLE=REQ-PARTICIPANT;PARTSTAT=ACCEPTED;RSVP=TRUE;CN="Sureka F
 ernando":https://bowesandbounds.org/profile/SurekaFernando
END:VEVENT
END:VCALENDAR
