BEGIN:VCALENDAR
PRODID:NingEventWidget-v1
VERSION:2.0
METHOD:PUBLISH
BEGIN:VTIMEZONE
TZID:Europe/London
X-LIC-LOCATION:Europe/London
BEGIN:DAYLIGHT
TZOFFSETFROM:+0000
TZOFFSETTO:+0100
TZNAME:BST
DTSTART:19700329T010000
RRULE:FREQ=YEARLY;BYMONTH=3;BYDAY=-1SU
END:DAYLIGHT
BEGIN:STANDARD
TZOFFSETFROM:+0100
TZOFFSETTO:+0000
TZNAME:GMT
DTSTART:19701025T020000
RRULE:FREQ=YEARLY;BYMONTH=10;BYDAY=-1SU
END:STANDARD
END:VTIMEZONE
BEGIN:VEVENT
UID:6278630:Event:75905
DTSTAMP:20260424T233925Z
SUMMARY:Snowdon Moonlight Challenge
DESCRIPTION:Join this unique challenge and trek Mount Snowdon by moonl
 ight\nThis exclusive NSPCC trek takes you into the heart of the Snowdo
 n National Park to conquer the highest mountain in England and Wales a
 t 1085m. This is a popular summit trek by day-time, but forms a greate
 r challenge by night requiring stamina and determination.\nHighlights 
 include:\n\nAn unforgettable experience standing at the summit by moon
 light\nWatching the incredible sunrise from the mountain slopes on you
 r descent\nMeeting like minded, friendly people\nCelebratory breakfast
  at the finish\n\n\nFor more information visit https://bowesandbounds.
 org/events/snowdon-moonlight-challenge
DTSTART;TZID=Europe/London:20140906T000000
DTEND;TZID=Europe/London:20140907T235900
CATEGORIES:nspcc
LOCATION:Snowdon National Park
WEBSITE:
URL:
CONTACT:0207852966
ORGANIZER;CN="Rebekah Melcher":https://bowesandbounds.org/profile/Rebe
 kahMelcher
ATTACH;FMTTYPE="image/jpeg":http://storage.ning.com/topology/rest/1.0/
 file/get/2287264013?profile=original
ATTENDEE;ROLE=REQ-PARTICIPANT;PARTSTAT=ACCEPTED;RSVP=TRUE;CN="Rebekah 
 Melcher":https://bowesandbounds.org/profile/RebekahMelcher
END:VEVENT
END:VCALENDAR
