BEGIN:VCALENDAR
PRODID:NingEventWidget-v1
VERSION:2.0
METHOD:PUBLISH
BEGIN:VTIMEZONE
TZID:Europe/London
X-LIC-LOCATION:Europe/London
BEGIN:DAYLIGHT
TZOFFSETFROM:+0000
TZOFFSETTO:+0100
TZNAME:BST
DTSTART:19700329T010000
RRULE:FREQ=YEARLY;BYMONTH=3;BYDAY=-1SU
END:DAYLIGHT
BEGIN:STANDARD
TZOFFSETFROM:+0100
TZOFFSETTO:+0000
TZNAME:GMT
DTSTART:19701025T020000
RRULE:FREQ=YEARLY;BYMONTH=10;BYDAY=-1SU
END:STANDARD
END:VTIMEZONE
BEGIN:VEVENT
UID:6278630:Event:90475
DTSTAMP:20260422T135746Z
SUMMARY:Social Gathering for St Patrick's Day
DESCRIPTION:Following the 09:35 Mass on St Patrick's Day 17th March th
 e Catholic Community of St Monica's Roman Catholic Church of Palmers G
 reen and their many friends, plan to adjourn to the Large Hall (intima
 te Theatre) for their annual gathering over coffee. \n\nPlease note t
 hat Bus Route 329 towards Enfield Town stops outside and Bus Route w6 
 stops closeby. \n\nFor more information visit https://bowesandbounds.
 org/events/social-gathering-for-st-patrick-s-day
DTSTART;TZID=Europe/London:20150317T100000
DTEND;TZID=Europe/London:20150317T230000
CATEGORIES:gathering
LOCATION:St Monica's Roman Catholic Church
WEBSITE:http://www.stmonica.co.uk/
URL:http://www.stmonica.co.uk/
CONTACT:
ORGANIZER;CN="Donald Smith":https://bowesandbounds.org/profile/DonaldS
 mith
ATTACH;FMTTYPE="image/jpeg":http://storage.ning.com/topology/rest/1.0/
 file/get/2287274760?profile=original
ATTENDEE;ROLE=REQ-PARTICIPANT;PARTSTAT=ACCEPTED;RSVP=TRUE;CN="Donald S
 mith":https://bowesandbounds.org/profile/DonaldSmith
END:VEVENT
END:VCALENDAR
