BEGIN:VCALENDAR
PRODID:NingEventWidget-v1
VERSION:2.0
METHOD:PUBLISH
BEGIN:VTIMEZONE
TZID:Europe/London
X-LIC-LOCATION:Europe/London
BEGIN:DAYLIGHT
TZOFFSETFROM:+0000
TZOFFSETTO:+0100
TZNAME:BST
DTSTART:19700329T010000
RRULE:FREQ=YEARLY;BYMONTH=3;BYDAY=-1SU
END:DAYLIGHT
BEGIN:STANDARD
TZOFFSETFROM:+0100
TZOFFSETTO:+0000
TZNAME:GMT
DTSTART:19701025T020000
RRULE:FREQ=YEARLY;BYMONTH=10;BYDAY=-1SU
END:STANDARD
END:VTIMEZONE
BEGIN:VEVENT
UID:6278630:Event:131280
DTSTAMP:20260421T094821Z
SUMMARY:Society of Imaginary Friends - Summer Soiree
DESCRIPTION:The Society of Imaginary Friends Soiree is a night of ecle
 ctic, bohemian live performances by professional musicians, poets and 
 comedians who want to try out their new material to an attentive audie
 nce.\nThe night is hosted by The band the Society of Imaginary Friends
  who opened Glastonbury Festival 2017.\nSummer Soiree:\nOh it’s gett
 ing hot in the city and for some proper sizzling underground creative,
  poetry, art and music action you need look no further than our June S
 ociety of Imaginary Friends Soiree.\nWe have the fabulous young radica
 l performance poet Millie George, the one and only Wondr Womn accompan
 ied by the inimitable Mr Jones on Trombone and the virtuosic blues gui
 tarist all the way from Dublin Mr David Skinner,  the magical, fiery 
 poetess Ms Debra Watson, the intriguing, charismatic poet Mr Math Jone
 s, very, very special guest DJ just returned from Mexico City and abou
 t to tour Europe (sneaky listen here), Canadian rapper, musician and c
 omedian Mr Mark Norman Harris, and not forgetting the Society of Imagi
 nary Friends and That’s just for starters more acts to be announced 
 very soon… Watch this space.\nClick here for more details.\nPre-Show
  Happy Hour 5-7pm - Buy-1-Get-1-Half-Price on drinks Kitchen offering 
 superb vegan food open 7-10pm Music from 8pm\nFree Entry\nKaramel is a
  unique vegan space in the heart of Wood Green’s Cultural Quarter an
 d is the centre point of the Chocolate Factory studios, where you can 
 enjoy good quality fresh, affordable and hearty breakfasts, and world 
 food lunchtime buffets, inspired by our top chefs’ travels.  Our hi
 ghly acclaimed all day vegan Sunday roast has been going down a storm 
 for over 3 years, and we have recently won the Time Out London 2018 Aw
 ard for best restaurant in Wood Green.\nKaramel is a vegan haven for a
 rts, performances, music and food.  By day we are a café/bar with lo
 cal artist exhibitions, and by evening (Thu-Sat) we host eclectic and 
 varied music and performances with a range of vegan food to match the 
 evening.\nWe aim to satisfy the most critical beer drinker with our of
 fering of a good range of quality and refreshing craft beers from loca
 l or micro-breweries on tap.\n\n\n\nFor more information visit https:/
 /bowesandbounds.org/events/society-of-imaginary-friends-summer-soiree
DTSTART;TZID=Europe/London:20180601T180000
DTEND;TZID=Europe/London:20180602T010000
CATEGORIES:live, music, haringey, spoken, word, poetry, singer, song-w
 riter, emerging, artists, vegan, vegetarian, free, "alt+folk", "alt+po
 etry", alternative
LOCATION:Karamel London N22
WEBSITE:http://societyofimaginaryfriends.co.uk/upcoming-gigs/
URL:http://societyofimaginaryfriends.co.uk/upcoming-gigs/
CONTACT:020 8829 8989
ORGANIZER;CN="Alan Drummer":https://bowesandbounds.org/profile/AlanDru
 mmer
ATTACH;FMTTYPE="image/jpeg":http://storage.ning.com/topology/rest/1.0/
 file/get/2287325341?profile=original
ATTENDEE;ROLE=REQ-PARTICIPANT;PARTSTAT=ACCEPTED;RSVP=TRUE;CN="Alan Dru
 mmer":https://bowesandbounds.org/profile/AlanDrummer
END:VEVENT
END:VCALENDAR
