BEGIN:VCALENDAR
PRODID:NingEventWidget-v1
VERSION:2.0
METHOD:PUBLISH
BEGIN:VTIMEZONE
TZID:Europe/London
X-LIC-LOCATION:Europe/London
BEGIN:DAYLIGHT
TZOFFSETFROM:+0000
TZOFFSETTO:+0100
TZNAME:BST
DTSTART:19700329T010000
RRULE:FREQ=YEARLY;BYMONTH=3;BYDAY=-1SU
END:DAYLIGHT
BEGIN:STANDARD
TZOFFSETFROM:+0100
TZOFFSETTO:+0000
TZNAME:GMT
DTSTART:19701025T020000
RRULE:FREQ=YEARLY;BYMONTH=10;BYDAY=-1SU
END:STANDARD
END:VTIMEZONE
BEGIN:VEVENT
UID:6278630:Event:46781
DTSTAMP:20260426T022932Z
SUMMARY:Songwriters' Circle at The Step
DESCRIPTION:On Saturday 6th October, we’ll be hosting our second Son
 gwriters’ Circle – a Nashville style ‘in-the-round’ event that
  will see three talented singer-songwriters doing what they do best.\n
 Our first Songwriters’ Circle was such a success that we’re making
  it a regular feature on the first Saturday of every month – what a 
 treat!\nThis month we are delighted to welcome back three performers w
 ho all live within a mile of The Step: Richard Lobb, Joe Cang and Esth
 er Dee.\n\nFor more information visit https://bowesandbounds.org/event
 s/songwriters-circle-at-the-step-1
DTSTART;TZID=Europe/London:20121006T200000
DTEND;TZID=Europe/London:20121006T230000
CATEGORIES:live, music, gig
LOCATION:The Step
WEBSITE:http://www.thestep.co.uk/events/
URL:http://www.thestep.co.uk/events/
CONTACT:020 3302 2412
ORGANIZER;CN="Nell Riches":https://bowesandbounds.org/profile/NellRich
 es
ATTACH;FMTTYPE="image/jpeg":http://storage.ning.com/topology/rest/1.0/
 file/get/2287237341?profile=original
ATTENDEE;ROLE=REQ-PARTICIPANT;PARTSTAT=ACCEPTED;RSVP=TRUE;CN="Nell Ric
 hes":https://bowesandbounds.org/profile/NellRiches
ATTENDEE;ROLE=REQ-PARTICIPANT;PARTSTAT=TENTATIVE;RSVP=TRUE;CN="Richard
  McKeever":https://bowesandbounds.org/profile/3hwxkqhdde8gc
END:VEVENT
END:VCALENDAR
