BEGIN:VCALENDAR
PRODID:NingEventWidget-v1
VERSION:2.0
METHOD:PUBLISH
BEGIN:VTIMEZONE
TZID:Europe/London
X-LIC-LOCATION:Europe/London
BEGIN:DAYLIGHT
TZOFFSETFROM:+0000
TZOFFSETTO:+0100
TZNAME:BST
DTSTART:19700329T010000
RRULE:FREQ=YEARLY;BYMONTH=3;BYDAY=-1SU
END:DAYLIGHT
BEGIN:STANDARD
TZOFFSETFROM:+0100
TZOFFSETTO:+0000
TZNAME:GMT
DTSTART:19701025T020000
RRULE:FREQ=YEARLY;BYMONTH=10;BYDAY=-1SU
END:STANDARD
END:VTIMEZONE
BEGIN:VEVENT
UID:6278630:Event:237024
DTSTAMP:20260422T105736Z
SUMMARY:SOUL NIGHT with Soulfools ft Newton Brown
DESCRIPTION:Weekly live music at Fatisa continues with the amazing Sou
 lfools and Newton Brown.\nFatisa is the ‘new place in town’ for li
 ve music. Book a table for dinner or just have a drink. \nLive music 
 will continue on most Friday nights.\n\nFor more information visit htt
 ps://bowesandbounds.org/events/soul-night-with-soulfools-ft-newton-bro
 wn
DTSTART;TZID=Europe/London:20210917T203000
DTEND;TZID=Europe/London:20210917T223000
CATEGORIES:live, music
LOCATION:Fatisa Restaurant
WEBSITE:http://www.fatisa.co.uk
URL:http://www.fatisa.co.uk
CONTACT:0208 888 9008
ORGANIZER;CN=SA:https://bowesandbounds.org/profile/SA
ATTACH;FMTTYPE="image/jpeg":
ATTENDEE;ROLE=REQ-PARTICIPANT;PARTSTAT=ACCEPTED;RSVP=TRUE;CN=SA:https:
 //bowesandbounds.org/profile/SA
END:VEVENT
END:VCALENDAR
