BEGIN:VCALENDAR
PRODID:NingEventWidget-v1
VERSION:2.0
METHOD:PUBLISH
BEGIN:VTIMEZONE
TZID:Europe/London
X-LIC-LOCATION:Europe/London
BEGIN:DAYLIGHT
TZOFFSETFROM:+0000
TZOFFSETTO:+0100
TZNAME:BST
DTSTART:19700329T010000
RRULE:FREQ=YEARLY;BYMONTH=3;BYDAY=-1SU
END:DAYLIGHT
BEGIN:STANDARD
TZOFFSETFROM:+0100
TZOFFSETTO:+0000
TZNAME:GMT
DTSTART:19701025T020000
RRULE:FREQ=YEARLY;BYMONTH=10;BYDAY=-1SU
END:STANDARD
END:VTIMEZONE
BEGIN:VEVENT
UID:6278630:Event:123536
DTSTAMP:20260423T193914Z
SUMMARY:SOUL SISTERS
DESCRIPTION:Have you ever wanted to learn to sing but either think you
  couldn't hold a tune in a bucket or just don't have the confidence? Â
  Welcome to Melanie Masson's Fun, Inspiring, Confidence building group
  singing class for Ladies Only. All levels welcome from beginners to a
 dvanced.\nLearn technique, learn new songs, make new friends and sing 
 your troubles away!!\n\nFor more information visit https://bowesandbou
 nds.org/events/soul-sisters
DTSTART;TZID=Europe/London:20170605T200000
DTEND;TZID=Europe/London:20170605T210000
CATEGORIES:"women's", group, singing, class
LOCATION:Hot Milk in Renaissance Music
WEBSITE:
URL:
CONTACT:
ORGANIZER:Melanie Masson
ATTACH;FMTTYPE="image/jpeg":http://storage.ning.com/topology/rest/1.0/
 file/get/2287319203?profile=original
ATTENDEE;ROLE=REQ-PARTICIPANT;PARTSTAT=ACCEPTED;RSVP=TRUE;CN="Melanie 
 Masson":https://bowesandbounds.org/profile/MelanieRobertson
END:VEVENT
END:VCALENDAR
