BEGIN:VCALENDAR
PRODID:NingEventWidget-v1
VERSION:2.0
METHOD:PUBLISH
BEGIN:VTIMEZONE
TZID:Europe/London
X-LIC-LOCATION:Europe/London
BEGIN:DAYLIGHT
TZOFFSETFROM:+0000
TZOFFSETTO:+0100
TZNAME:BST
DTSTART:19700329T010000
RRULE:FREQ=YEARLY;BYMONTH=3;BYDAY=-1SU
END:DAYLIGHT
BEGIN:STANDARD
TZOFFSETFROM:+0100
TZOFFSETTO:+0000
TZNAME:GMT
DTSTART:19701025T020000
RRULE:FREQ=YEARLY;BYMONTH=10;BYDAY=-1SU
END:STANDARD
END:VTIMEZONE
BEGIN:VEVENT
UID:6278630:Event:239389
DTSTAMP:20260422T022214Z
SUMMARY:SOULFOOLS are back at the Ranelagh!
DESCRIPTION:Soulfools fans - we are back at the Ranelagh, and looking 
 forward to being there for the first time this year!\nHope to see you 
 there.\n\nFor more information visit https://bowesandbounds.org/events
 /soulfools-are-back-at-the-ranelagh
DTSTART;TZID=Europe/London:20220224T210000
DTEND;TZID=Europe/London:20220224T230000
CATEGORIES:live, music
LOCATION:The Ranelagh N11
WEBSITE:http://theranelaghn11.co.uk
URL:http://theranelaghn11.co.uk
CONTACT:020 8361 4238
ORGANIZER;CN=SA:https://bowesandbounds.org/profile/SA
ATTACH;FMTTYPE="image/jpeg":
ATTENDEE;ROLE=REQ-PARTICIPANT;PARTSTAT=ACCEPTED;RSVP=TRUE;CN=SA:https:
 //bowesandbounds.org/profile/SA
END:VEVENT
END:VCALENDAR
