BEGIN:VCALENDAR
PRODID:NingEventWidget-v1
VERSION:2.0
METHOD:PUBLISH
BEGIN:VTIMEZONE
TZID:Europe/London
X-LIC-LOCATION:Europe/London
BEGIN:DAYLIGHT
TZOFFSETFROM:+0000
TZOFFSETTO:+0100
TZNAME:BST
DTSTART:19700329T010000
RRULE:FREQ=YEARLY;BYMONTH=3;BYDAY=-1SU
END:DAYLIGHT
BEGIN:STANDARD
TZOFFSETFROM:+0100
TZOFFSETTO:+0000
TZNAME:GMT
DTSTART:19701025T020000
RRULE:FREQ=YEARLY;BYMONTH=10;BYDAY=-1SU
END:STANDARD
END:VTIMEZONE
BEGIN:VEVENT
UID:6278630:Event:238804
DTSTAMP:20260422T045306Z
SUMMARY:Soulfools at the Ranelagh
DESCRIPTION:Another great night with Soulfools.\nCome and dance until 
 you drop!\n\nFor more information visit https://bowesandbounds.org/eve
 nts/soulfools-at-the-ranelagh-14
DTSTART;TZID=Europe/London:20211209T210000
DTEND;TZID=Europe/London:20211209T230000
CATEGORIES:live, music
LOCATION:The RanelaghN11
WEBSITE:http://www.theranelaghn11.co.uk
URL:http://www.theranelaghn11.co.uk
CONTACT:0208 361 4238
ORGANIZER;CN=SA:https://bowesandbounds.org/profile/SA
ATTACH;FMTTYPE="image/jpeg":
ATTENDEE;ROLE=REQ-PARTICIPANT;PARTSTAT=ACCEPTED;RSVP=TRUE;CN=SA:https:
 //bowesandbounds.org/profile/SA
END:VEVENT
END:VCALENDAR
