BEGIN:VCALENDAR
PRODID:NingEventWidget-v1
VERSION:2.0
METHOD:PUBLISH
BEGIN:VTIMEZONE
TZID:Europe/London
X-LIC-LOCATION:Europe/London
BEGIN:DAYLIGHT
TZOFFSETFROM:+0000
TZOFFSETTO:+0100
TZNAME:BST
DTSTART:19700329T010000
RRULE:FREQ=YEARLY;BYMONTH=3;BYDAY=-1SU
END:DAYLIGHT
BEGIN:STANDARD
TZOFFSETFROM:+0100
TZOFFSETTO:+0000
TZNAME:GMT
DTSTART:19701025T020000
RRULE:FREQ=YEARLY;BYMONTH=10;BYDAY=-1SU
END:STANDARD
END:VTIMEZONE
BEGIN:VEVENT
UID:6278630:Event:136386
DTSTAMP:20260423T224733Z
SUMMARY:SOULFOOLS at the Ranelagh
DESCRIPTION:Soulfools are back at the Ranelagh on Thursday, June 27th.
 \nLiam and the amazing musicians will entertain you + an exciting new 
 guest singer.\n\nBook early!\n\nFor more information visit https://bow
 esandbounds.org/events/soulfools-at-the-ranelagh-9
DTSTART;TZID=Europe/London:20190627T210000
DTEND;TZID=Europe/London:20190627T230000
CATEGORIES:live, music
LOCATION:The Ranelagh N11
WEBSITE:
URL:
CONTACT:
ORGANIZER;CN=SA:https://bowesandbounds.org/profile/SA
ATTACH;FMTTYPE="image/jpeg":
ATTENDEE;ROLE=REQ-PARTICIPANT;PARTSTAT=ACCEPTED;RSVP=TRUE;CN=SA:https:
 //bowesandbounds.org/profile/SA
END:VEVENT
END:VCALENDAR
