BEGIN:VCALENDAR
PRODID:NingEventWidget-v1
VERSION:2.0
METHOD:PUBLISH
BEGIN:VTIMEZONE
TZID:Europe/London
X-LIC-LOCATION:Europe/London
BEGIN:DAYLIGHT
TZOFFSETFROM:+0000
TZOFFSETTO:+0100
TZNAME:BST
DTSTART:19700329T010000
RRULE:FREQ=YEARLY;BYMONTH=3;BYDAY=-1SU
END:DAYLIGHT
BEGIN:STANDARD
TZOFFSETFROM:+0100
TZOFFSETTO:+0000
TZNAME:GMT
DTSTART:19701025T020000
RRULE:FREQ=YEARLY;BYMONTH=10;BYDAY=-1SU
END:STANDARD
END:VTIMEZONE
BEGIN:VEVENT
UID:6278630:Event:131701
DTSTAMP:20260424T235713Z
SUMMARY:SOULFOOLS at the Ranelagh
DESCRIPTION:\nSoulfools , the Ranelagh’s most popular band, is playi
 ng tonight.\nLet Liam and the band entertain you...\nCome on down and 
 dance the night away!!\n\n\nFor more information visit https://bowesan
 dbounds.org/events/soulfools-at-the-ranelagh
DTSTART;TZID=Europe/London:20180607T210000
DTEND;TZID=Europe/London:20180607T230000
CATEGORIES:live, music
LOCATION:The Ranelagh, N 11
WEBSITE:
URL:
CONTACT:
ORGANIZER;CN=SA:https://bowesandbounds.org/profile/SA
ATTACH;FMTTYPE="image/jpeg":
ATTENDEE;ROLE=REQ-PARTICIPANT;PARTSTAT=ACCEPTED;RSVP=TRUE;CN=SA:https:
 //bowesandbounds.org/profile/SA
END:VEVENT
END:VCALENDAR
