BEGIN:VCALENDAR
PRODID:NingEventWidget-v1
VERSION:2.0
METHOD:PUBLISH
BEGIN:VTIMEZONE
TZID:Europe/London
X-LIC-LOCATION:Europe/London
BEGIN:DAYLIGHT
TZOFFSETFROM:+0000
TZOFFSETTO:+0100
TZNAME:BST
DTSTART:19700329T010000
RRULE:FREQ=YEARLY;BYMONTH=3;BYDAY=-1SU
END:DAYLIGHT
BEGIN:STANDARD
TZOFFSETFROM:+0100
TZOFFSETTO:+0000
TZNAME:GMT
DTSTART:19701025T020000
RRULE:FREQ=YEARLY;BYMONTH=10;BYDAY=-1SU
END:STANDARD
END:VTIMEZONE
BEGIN:VEVENT
UID:6278630:Event:132991
DTSTAMP:20260424T085150Z
SUMMARY:SOULFOOLS at the RanelaghN11
DESCRIPTION:Yes , we are back at the Ranelagh on DEC 20TH for a great 
 night of festive fun!\nCome and join us - celebrate the end of the sch
 ool term, Christmas, and anything else you wish to celebrate!\n\nBOOK 
 EARLY - the pub will probably be very crowded that night.\n\nRemember 
 that Soulfools are available for all private events.\nPlease email : i
 nfo@rebusmusic.co.uk for booking enquiries\n\nFor more information vis
 it https://bowesandbounds.org/events/soulfools-at-the-ranelaghn11
DTSTART;TZID=Europe/London:20181220T210000
DTEND;TZID=Europe/London:20181220T230000
CATEGORIES:live, music
LOCATION:The Ranelagh
WEBSITE:
URL:
CONTACT:
ORGANIZER;CN=SA:https://bowesandbounds.org/profile/SA
ATTACH;FMTTYPE="image/jpeg":
ATTENDEE;ROLE=REQ-PARTICIPANT;PARTSTAT=ACCEPTED;RSVP=TRUE;CN=SA:https:
 //bowesandbounds.org/profile/SA
END:VEVENT
END:VCALENDAR
