BEGIN:VCALENDAR
PRODID:NingEventWidget-v1
VERSION:2.0
METHOD:PUBLISH
BEGIN:VTIMEZONE
TZID:Europe/London
X-LIC-LOCATION:Europe/London
BEGIN:DAYLIGHT
TZOFFSETFROM:+0000
TZOFFSETTO:+0100
TZNAME:BST
DTSTART:19700329T010000
RRULE:FREQ=YEARLY;BYMONTH=3;BYDAY=-1SU
END:DAYLIGHT
BEGIN:STANDARD
TZOFFSETFROM:+0100
TZOFFSETTO:+0000
TZNAME:GMT
DTSTART:19701025T020000
RRULE:FREQ=YEARLY;BYMONTH=10;BYDAY=-1SU
END:STANDARD
END:VTIMEZONE
BEGIN:VEVENT
UID:6278630:Event:134576
DTSTAMP:20260424T074712Z
SUMMARY:SOULFOOLS
DESCRIPTION:\nCalling all Soulfools fans!\n\nif you enjoyed the gig at
  the Ranelagh last night, you might like to know that Soulfools will b
 e at the Black Horse in Barnet, tomorrow Feb 2nd.\n\n\n\nFor more info
 rmation visit https://bowesandbounds.org/events/soulfools
DTSTART;TZID=Europe/London:20190202T210000
DTEND;TZID=Europe/London:20190202T230000
CATEGORIES:live, music
LOCATION:The Black Horse
WEBSITE:
URL:
CONTACT:
ORGANIZER;CN=SA:https://bowesandbounds.org/profile/SA
ATTACH;FMTTYPE="image/jpeg":
ATTENDEE;ROLE=REQ-PARTICIPANT;PARTSTAT=ACCEPTED;RSVP=TRUE;CN=SA:https:
 //bowesandbounds.org/profile/SA
END:VEVENT
END:VCALENDAR
