BEGIN:VCALENDAR
PRODID:NingEventWidget-v1
VERSION:2.0
METHOD:PUBLISH
BEGIN:VTIMEZONE
TZID:Europe/London
X-LIC-LOCATION:Europe/London
BEGIN:DAYLIGHT
TZOFFSETFROM:+0000
TZOFFSETTO:+0100
TZNAME:BST
DTSTART:19700329T010000
RRULE:FREQ=YEARLY;BYMONTH=3;BYDAY=-1SU
END:DAYLIGHT
BEGIN:STANDARD
TZOFFSETFROM:+0100
TZOFFSETTO:+0000
TZNAME:GMT
DTSTART:19701025T020000
RRULE:FREQ=YEARLY;BYMONTH=10;BYDAY=-1SU
END:STANDARD
END:VTIMEZONE
BEGIN:VEVENT
UID:6278630:Event:251054
DTSTAMP:20260422T173503Z
SUMMARY:ðŸŽ¶ Soulvines â€“ Bringing the music of Amy Winehouse to Wood
  Green ðŸŽ¶
DESCRIPTION:\nÂ \nðŸŽ¶ The Soulvines ðŸŽ¶Â \n\nStep into a night of so
 ul, style, and stunning vocals as The Soulvines bring the unforgettabl
 e sound of Amy Winehouse to life! We're a newly formed 5-piece band â€
 “ four seasoned musicians and one powerhouse female vocalist â€“ unite
 d by a love of jazz, blues, and funk.\nWith rich instrumentation, smoo
 th grooves, and raw emotion, weâ€™re delivering a passionate performan
 ce of Amyâ€™s greatest hits. From Back to Black to Valerie, expect a n
 ight of music thatâ€™s bold, sultry, and full of soul.\nðŸŽ· Let us ta
 ke immerse you in the sound of Amy ðŸŽ·Â \nKaramel - 4 Coburg Road, Lo
 ndon N22 6UJ. The Karamel vegan kitchen will be serving food until 9.3
 0pm. Email karamel8775@gmail.com to book a table for groups of 3+.\n\n
 Doors open 7pm, music starts at 8pm.\n\nÂ£7.50 Earlybird; Â£10 General
  admission; Â£5 Student.\n\nhttps://www.musicglue.com/karamel/events/2
 025-08-09-soulvines-bringing-the-music-of-amy-winehouse-to-wood-green-
 karamel\n\nFor more information visit https://bowesandbounds.org/event
 s/soulvines-bringing-the-music-of-amy-winehouse-to-wood-green
DTSTART;TZID=Europe/London:20250809T190000
DTEND;TZID=Europe/London:20250809T220000
CATEGORIES:jazz, "vegan venue", "vegan food", "live music", "amy wineh
 ouse", "cover band", motown, blues, funk, soul, "live show"
LOCATION:karamel, 4 Coburg Road, Wood Green, London N22 6UJ
WEBSITE:https://www.musicglue.com/karamel/events/2025-08-09-soulvines-
 bringing-the-music-of-amy-winehouse-to-wood-green-karamel
URL:https://www.musicglue.com/karamel/events/2025-08-09-soulvines-brin
 ging-the-music-of-amy-winehouse-to-wood-green-karamel
CONTACT:
ORGANIZER;CN="Collage Artspaces":https://bowesandbounds.org/profile/Co
 llage_Arts
ATTACH;FMTTYPE="image/jpeg":https://storage.ning.com/topology/rest/1.0
 /file/get/13641054061?profile=original
ATTENDEE;ROLE=REQ-PARTICIPANT;PARTSTAT=ACCEPTED;RSVP=TRUE;CN="Collage 
 Artspaces":https://bowesandbounds.org/profile/Collage_Arts
END:VEVENT
END:VCALENDAR
