BEGIN:VCALENDAR
PRODID:NingEventWidget-v1
VERSION:2.0
METHOD:PUBLISH
BEGIN:VTIMEZONE
TZID:Europe/London
X-LIC-LOCATION:Europe/London
BEGIN:DAYLIGHT
TZOFFSETFROM:+0000
TZOFFSETTO:+0100
TZNAME:BST
DTSTART:19700329T010000
RRULE:FREQ=YEARLY;BYMONTH=3;BYDAY=-1SU
END:DAYLIGHT
BEGIN:STANDARD
TZOFFSETFROM:+0100
TZOFFSETTO:+0000
TZNAME:GMT
DTSTART:19701025T020000
RRULE:FREQ=YEARLY;BYMONTH=10;BYDAY=-1SU
END:STANDARD
END:VTIMEZONE
BEGIN:VEVENT
UID:6278630:Event:115420
DTSTAMP:20260422T124402Z
SUMMARY:Southgate Circus Library Closure and Relocation
DESCRIPTION:Please note that as part of land sale and provision of edu
 cational services, the present building housing Southgate Circus Libra
 ry will close between 11th July and 30th July 2016\nAfter 30th July So
 uthgate Circus Library will be located within the Southgate Campus Bui
 ldings of Barnet and Southgate College of Further Education, for furth
 er information from Councillor Ayfer Orhan Cabinet Member for Educati
 on, Children's Services and Protection mailto:cllr.ayfer.orhan@enfiel
 d.gov.uk\n\n\n\nFor more information visit https://bowesandbounds.org/
 events/southgate-circus-library-closure-and-relocation
DTSTART;TZID=Europe/London:20160711T000000
DTEND;TZID=Europe/London:20160730T235900
CATEGORIES:library_closure
LOCATION:Southgate Circus Library
WEBSITE:http://www.barnetsouthgate.ac.uk/additional/contact-us
URL:http://www.barnetsouthgate.ac.uk/additional/contact-us
CONTACT:
ORGANIZER;CN="Donald Smith":https://bowesandbounds.org/profile/DonaldS
 mith
ATTACH;FMTTYPE="image/jpeg":
ATTENDEE;ROLE=REQ-PARTICIPANT;PARTSTAT=ACCEPTED;RSVP=TRUE;CN="Donald S
 mith":https://bowesandbounds.org/profile/DonaldSmith
END:VEVENT
END:VCALENDAR
