BEGIN:VCALENDAR
PRODID:NingEventWidget-v1
VERSION:2.0
METHOD:PUBLISH
BEGIN:VTIMEZONE
TZID:Europe/London
X-LIC-LOCATION:Europe/London
BEGIN:DAYLIGHT
TZOFFSETFROM:+0000
TZOFFSETTO:+0100
TZNAME:BST
DTSTART:19700329T010000
RRULE:FREQ=YEARLY;BYMONTH=3;BYDAY=-1SU
END:DAYLIGHT
BEGIN:STANDARD
TZOFFSETFROM:+0100
TZOFFSETTO:+0000
TZNAME:GMT
DTSTART:19701025T020000
RRULE:FREQ=YEARLY;BYMONTH=10;BYDAY=-1SU
END:STANDARD
END:VTIMEZONE
BEGIN:VEVENT
UID:6278630:Event:107152
DTSTAMP:20260424T021912Z
SUMMARY:Southgate Ward Area forum
DESCRIPTION:Agenda1.Â Â Â  Introductions2.Â Â Â  Crime update from the
  local Neighbourhood Police TeamÂ 3.Â Â Â  Standing items:Â Â Â  Â Â Â
  a.Â Â Â Update on Cycle EnfieldÂ \nÂ Â  Â Â Â  b. Â Â  Update on prop
 osed new primary school in Bourneside.Â Â Â Â  Â Â Â c. Â Â  Update on
  Enfield Road residential developmentÂ Â Â  Â Â  d.Â Â Â  Update on Me
 ridian water development4.Â  Â Â  Local concerns â€“ an opportunity fo
 r residents to raise environmental and other matters with Â Â Â  Â Â Â
   their local councillors.Â  Please take the opportunity to tell us be
 fore the meeting about any particular issues so that we can look into 
 them.Â  Our contact details are below.5.Â Â Â  Date of future meetings
 .Yours faithfullyCllr. Robert HaywardCllr.robert.hayward@enfield.gov.u
 k020 8440 5439Cllr. Daniel PearceCllr.Â daniel.pearce@enfield.gov.uk02
 0 8379 1706Cllr. Edward SmithCllr.Â edward.smith@enfield.gov.uk020 835
 1 1387\nÂ Please submit any questions to Councillors BEFORE the meetin
 g as it helps getting a reply\n\nFor more information visit https://bo
 wesandbounds.org/events/southgate-ward-area-forum-1
DTSTART;TZID=Europe/London:20160223T193000
DTEND;TZID=Europe/London:20160223T210000
CATEGORIES:area_forum
LOCATION:Southgate Methodist Church,
WEBSITE:
URL:
CONTACT:
ORGANIZER;CN="Donald Smith":https://bowesandbounds.org/profile/DonaldS
 mith
ATTACH;FMTTYPE="image/jpeg":
ATTENDEE;ROLE=REQ-PARTICIPANT;PARTSTAT=ACCEPTED;RSVP=TRUE;CN="Donald S
 mith":https://bowesandbounds.org/profile/DonaldSmith
END:VEVENT
END:VCALENDAR
