BEGIN:VCALENDAR
PRODID:NingEventWidget-v1
VERSION:2.0
METHOD:PUBLISH
BEGIN:VTIMEZONE
TZID:Europe/London
X-LIC-LOCATION:Europe/London
BEGIN:DAYLIGHT
TZOFFSETFROM:+0000
TZOFFSETTO:+0100
TZNAME:BST
DTSTART:19700329T010000
RRULE:FREQ=YEARLY;BYMONTH=3;BYDAY=-1SU
END:DAYLIGHT
BEGIN:STANDARD
TZOFFSETFROM:+0100
TZOFFSETTO:+0000
TZNAME:GMT
DTSTART:19701025T020000
RRULE:FREQ=YEARLY;BYMONTH=10;BYDAY=-1SU
END:STANDARD
END:VTIMEZONE
BEGIN:VEVENT
UID:6278630:Event:120706
DTSTAMP:20260425T021145Z
SUMMARY:Special event: Clay in the Making- hosted by Collective Exchan
 ge
DESCRIPTION:A Day of Clay!\nJoin 5 local ceramic artists at this free 
 special event, demonstrating and watching their latest work in clay. Y
 ou can watch demonstrations, hear talks and create your own pots from 
 clay excavated from the new Spurs’ football ground.\nFeaturing local
  artists: Josefina Isaza, Nao Matsunaga, Jess Miller, Lisa Stockham an
 d Collective Exchange.\nEvent suitable for adults and young people ove
 r 16. Booking a place is essential.\nTo book, please email Collective 
 Exchange: collectiveexchange.info@gmail.com\nFor further details of th
 e day, and for background information about the ceramic artists, visi
 t the Collective Exchange website (external link).\nKindly supported 
 by Haringey Ward Budget and Arts Council England\n\nFor more informati
 on visit https://bowesandbounds.org/events/special-event-clay-in-the-m
 aking-hosted-by-collective-exchange
DTSTART;TZID=Europe/London:20170211T130000
DTEND;TZID=Europe/London:20170211T163000
CATEGORIES:art, clay, ceramics, craft, demonstrations, workshops
LOCATION:Bruce Castle Museum
WEBSITE:http://haringey.gov.uk/brucecastlemuseum
URL:http://haringey.gov.uk/brucecastlemuseum
CONTACT:020 8808 8772
ORGANIZER;CN="Deborah Hedgecock":https://bowesandbounds.org/profile/De
 borahHedgecock
ATTACH;FMTTYPE="image/jpeg":
ATTENDEE;ROLE=REQ-PARTICIPANT;PARTSTAT=ACCEPTED;RSVP=TRUE;CN="Deborah 
 Hedgecock":https://bowesandbounds.org/profile/DeborahHedgecock
END:VEVENT
END:VCALENDAR
