BEGIN:VCALENDAR
PRODID:NingEventWidget-v1
VERSION:2.0
METHOD:PUBLISH
BEGIN:VTIMEZONE
TZID:Europe/London
X-LIC-LOCATION:Europe/London
BEGIN:DAYLIGHT
TZOFFSETFROM:+0000
TZOFFSETTO:+0100
TZNAME:BST
DTSTART:19700329T010000
RRULE:FREQ=YEARLY;BYMONTH=3;BYDAY=-1SU
END:DAYLIGHT
BEGIN:STANDARD
TZOFFSETFROM:+0100
TZOFFSETTO:+0000
TZNAME:GMT
DTSTART:19701025T020000
RRULE:FREQ=YEARLY;BYMONTH=10;BYDAY=-1SU
END:STANDARD
END:VTIMEZONE
BEGIN:VEVENT
UID:6278630:Event:136660
DTSTAMP:20260423T234818Z
SUMMARY:Special event: Who am I? A free arts workshop
DESCRIPTION:Join us and be inspired by the Black Georgian Londoners po
 rtrait exhibition at Bruce Castle Museum and take part in this free in
 teractive workshop of art, music and movement with visual and music ar
 tists Sunara Begum and Tunde Jegede.\nExploring questions of understan
 ding your identity, diversity and community through art, music and mov
 ement, you can design and create your own special crest and emblem to 
 signify who you are.\nInvestigate the world of sound through percussio
 n-led music making and immerse yourself in the art of expression throu
 gh movement.\nThe workshop looks at understanding who we are, tapping 
 into our inner self, asking questions, seeking answers and sharing per
 sonal and collective journeys.\nYour contributions will be part of a L
 ondon-wide exploration of who we are.\nFunded by the Arts Council.\nAl
 l welcome. Drop-in between 1.30pm - 4pm.\n\nFor more information visit
  https://bowesandbounds.org/events/special-event-who-am-i-a-free-arts-
 workshop-1
DTSTART;TZID=Europe/London:20190609T133000
DTEND;TZID=Europe/London:20190609T160000
CATEGORIES:special, event, arts, dance, music, free, workshop, culture
LOCATION:Bruce Castle Museum
WEBSITE:http://www.haringey.gov.uk/brucecastlemuseum
URL:http://www.haringey.gov.uk/brucecastlemuseum
CONTACT:020 8808 8772
ORGANIZER;CN="Deborah Hedgecock":https://bowesandbounds.org/profile/De
 borahHedgecock
ATTACH;FMTTYPE="image/jpeg":https://storage.ning.com/topology/rest/1.0
 /file/get/2711243227?profile=original
ATTENDEE;ROLE=REQ-PARTICIPANT;PARTSTAT=ACCEPTED;RSVP=TRUE;CN="Deborah 
 Hedgecock":https://bowesandbounds.org/profile/DeborahHedgecock
END:VEVENT
END:VCALENDAR
