BEGIN:VCALENDAR
PRODID:NingEventWidget-v1
VERSION:2.0
METHOD:PUBLISH
BEGIN:VTIMEZONE
TZID:Europe/London
X-LIC-LOCATION:Europe/London
BEGIN:DAYLIGHT
TZOFFSETFROM:+0000
TZOFFSETTO:+0100
TZNAME:BST
DTSTART:19700329T010000
RRULE:FREQ=YEARLY;BYMONTH=3;BYDAY=-1SU
END:DAYLIGHT
BEGIN:STANDARD
TZOFFSETFROM:+0100
TZOFFSETTO:+0000
TZNAME:GMT
DTSTART:19701025T020000
RRULE:FREQ=YEARLY;BYMONTH=10;BYDAY=-1SU
END:STANDARD
END:VTIMEZONE
BEGIN:VEVENT
UID:6278630:Event:121420
DTSTAMP:20260419T134627Z
SUMMARY:Spoken word
DESCRIPTION:“Spoken Word Event – Theme of Colours”\n\nHosted b
 y Allen Ashley \n\nFree entry \n\nReaders are invited to read one 
 or two poems or a couple of short pieces of writing up to 500 words 
 on the theme of “Colours” however you interpret it. Feeling blue? 
 Going green? Everything in the world doesn’t have to be black and wh
 ite.\nColours theme – Bring your own work or that of someone famous.
 \n \n\nFor more information visit https://bowesandbounds.org/events/s
 poken-word
DTSTART;TZID=Europe/London:20170319T130000
DTEND;TZID=Europe/London:20170319T150000
CATEGORIES:poetry, event
LOCATION:Alexandra Park Library
WEBSITE:
URL:
CONTACT:
ORGANIZER;CN="soulla katsiani":https://bowesandbounds.org/profile/soul
 lakatsiani
ATTACH;FMTTYPE="image/jpeg":
ATTENDEE;ROLE=REQ-PARTICIPANT;PARTSTAT=ACCEPTED;RSVP=TRUE;CN="soulla k
 atsiani":https://bowesandbounds.org/profile/soullakatsiani
END:VEVENT
END:VCALENDAR
