BEGIN:VCALENDAR
PRODID:NingEventWidget-v1
VERSION:2.0
METHOD:PUBLISH
BEGIN:VTIMEZONE
TZID:Europe/London
X-LIC-LOCATION:Europe/London
BEGIN:DAYLIGHT
TZOFFSETFROM:+0000
TZOFFSETTO:+0100
TZNAME:BST
DTSTART:19700329T010000
RRULE:FREQ=YEARLY;BYMONTH=3;BYDAY=-1SU
END:DAYLIGHT
BEGIN:STANDARD
TZOFFSETFROM:+0100
TZOFFSETTO:+0000
TZNAME:GMT
DTSTART:19701025T020000
RRULE:FREQ=YEARLY;BYMONTH=10;BYDAY=-1SU
END:STANDARD
END:VTIMEZONE
BEGIN:VEVENT
UID:6278630:Event:131252
DTSTAMP:20260425T031004Z
SUMMARY:Spring Fungi Walk
DESCRIPTION:Not all Fungi are just around in Autumn; indeed some such 
 as the St George's Mushroom are Spring specialists. Join Andy Overal
 l for our Spring walk identifying the fungi as we go. \n Last Spring
  we saw an impressive Dryad's Saddle fungus (pictured above) by the 3-
 4-5 Playground, wonder what the highlight will be this year?  Andy, wh
 o is leader of the London Fungus Group, has recently published a hug
 e tome on Fungi,  with special reference to those to be found in urba
 n areas - there will be copy at the Information Centre for you to peru
 se.  Numbers are limited so you need to register, by emailing allyp
 arkn10@gmail.com stating how many people you would like to book for, 
 and we will email back the details of where to meet.  The walk is fr
 ee.\nwww.friendsofalexandrapark.org\nLink to all Events coming up in t
 he Park\n\nFor more information visit https://bowesandbounds.org/event
 s/spring-fungi-walk-1
DTSTART;TZID=Europe/London:20180512T110000
DTEND;TZID=Europe/London:20180512T123000
CATEGORIES:fungi
LOCATION:Alexandra Park
WEBSITE:http://www.friendsofalexandrapark.org
URL:http://www.friendsofalexandrapark.org
CONTACT:
ORGANIZER;CN="Stephen Middleton":https://bowesandbounds.org/profile/St
 ephenMiddleton
ATTACH;FMTTYPE="image/jpeg":http://storage.ning.com/topology/rest/1.0/
 file/get/2287331871?profile=original
ATTENDEE;ROLE=REQ-PARTICIPANT;PARTSTAT=ACCEPTED;RSVP=TRUE;CN="Stephen 
 Middleton":https://bowesandbounds.org/profile/StephenMiddleton
END:VEVENT
END:VCALENDAR
