BEGIN:VCALENDAR
PRODID:NingEventWidget-v1
VERSION:2.0
METHOD:PUBLISH
BEGIN:VTIMEZONE
TZID:Europe/London
X-LIC-LOCATION:Europe/London
BEGIN:DAYLIGHT
TZOFFSETFROM:+0000
TZOFFSETTO:+0100
TZNAME:BST
DTSTART:19700329T010000
RRULE:FREQ=YEARLY;BYMONTH=3;BYDAY=-1SU
END:DAYLIGHT
BEGIN:STANDARD
TZOFFSETFROM:+0100
TZOFFSETTO:+0000
TZNAME:GMT
DTSTART:19701025T020000
RRULE:FREQ=YEARLY;BYMONTH=10;BYDAY=-1SU
END:STANDARD
END:VTIMEZONE
BEGIN:VEVENT
UID:6278630:Event:254107
DTSTAMP:20260421T170629Z
SUMMARY:Spring Garden Maintenance Day
DESCRIPTION:Could you spare an hour to help maintain the gardens at Mu
 swell Hill Methodist Church including the Prayer Garden, the Community
  Garden, the beds around the lawns and around the car park?\nEveryone'
 s welcome! Hot and cold drinks, and sweet treats, provided to sustain 
 our efforts!\nSuitable for all ages, so come as a family and enjoy bei
 ng outside! Tools provided. No experience needed, just wear suitable c
 lothes and bring a pair of gloves.\n\nFor more information visit https
 ://bowesandbounds.org/events/spring-garden-maintenance-day
DTSTART;TZID=Europe/London:20260502T100000
DTEND;TZID=Europe/London:20260502T160000
CATEGORIES:gardening, community, free, family, outdoors
LOCATION:Muswell Hill Methodist Church
WEBSITE:https://mhmc.org.uk/
URL:https://mhmc.org.uk/
CONTACT:020 8365 2466
ORGANIZER;CN="Penny Woods":https://bowesandbounds.org/profile/PennyWoo
 ds
ATTACH;FMTTYPE="image/jpeg":https://storage.ning.com/topology/rest/1.0
 /file/get/31135290067?profile=original
ATTENDEE;ROLE=REQ-PARTICIPANT;PARTSTAT=ACCEPTED;RSVP=TRUE;CN="Penny Wo
 ods":https://bowesandbounds.org/profile/PennyWoods
END:VEVENT
END:VCALENDAR
