BEGIN:VCALENDAR
PRODID:NingEventWidget-v1
VERSION:2.0
METHOD:PUBLISH
BEGIN:VTIMEZONE
TZID:Europe/London
X-LIC-LOCATION:Europe/London
BEGIN:DAYLIGHT
TZOFFSETFROM:+0000
TZOFFSETTO:+0100
TZNAME:BST
DTSTART:19700329T010000
RRULE:FREQ=YEARLY;BYMONTH=3;BYDAY=-1SU
END:DAYLIGHT
BEGIN:STANDARD
TZOFFSETFROM:+0100
TZOFFSETTO:+0000
TZNAME:GMT
DTSTART:19701025T020000
RRULE:FREQ=YEARLY;BYMONTH=10;BYDAY=-1SU
END:STANDARD
END:VTIMEZONE
BEGIN:VEVENT
UID:6278630:Event:63429
DTSTAMP:20260425T133835Z
SUMMARY:St Harmonicas Blues Club: Low Down Dogs
DESCRIPTION:This Friday, 2nd August, ‘The Low Down Dogs’ return to
  St Harmonicas  for a set of acoustic, Folk Blues along with some of 
 the more plugged in and rocking stuff! Dave Barnes has one of the fine
 st Blues voices you will ever hear and he is also a master of slide gu
 itar and harmonica  His collaborator, John Crowther plays lead guitar
  & mandolin and shares vocal duties, with Pete Abernethy providing a h
 ost of percussion effects. Dave Thomas has bass and vocal duties.The L
 ow Down Dogs are fully Blues Police approved and you can expect an ent
 ertaining set of familiar, lesser known and some original material fro
 m these discerning musicians.\nHarmonica Dave provides half-time suppo
 rt under the guise of Ukelele Dave. Great stuff!  See you there for a 
 9.00pm start.\n\nThe Vintage Blues Club St Harmonicas 6 Cannon Hill, S
 outhgate, N14 7HG  More Info: www.thevintage.org.uk\n \n\n\nFor more i
 nformation visit https://bowesandbounds.org/events/st-harmonicas-blues
 -club-low-down-dogs-2
DTSTART;TZID=Europe/London:20130802T203000
DTEND;TZID=Europe/London:20130802T233000
CATEGORIES:music
LOCATION:Southgate
WEBSITE:http://maps.google.com/maps?f=q&source=s_q&hl=en&geocode=&q=n1
 4+7hg&sll=37.0625,-95.677068&sspn=48.641855,74.707031&ie=UTF8&hq=&hnea
 r=London+N14+7HG,+United+Kingdom&z=16
URL:http://maps.google.com/maps?f=q&source=s_q&hl=en&geocode=&q=n14+7h
 g&sll=37.0625,-95.677068&sspn=48.641855,74.707031&ie=UTF8&hq=&hnear=Lo
 ndon+N14+7HG,+United+Kingdom&z=16
CONTACT:
ORGANIZER:Administrator
ATTACH;FMTTYPE="image/jpeg":http://storage.ning.com/topology/rest/1.0/
 file/get/2287244126?profile=original
ATTENDEE;ROLE=REQ-PARTICIPANT;PARTSTAT=ACCEPTED;RSVP=TRUE;CN="Richard 
 McKeever":https://bowesandbounds.org/profile/3hwxkqhdde8gc
END:VEVENT
END:VCALENDAR
