BEGIN:VCALENDAR
PRODID:NingEventWidget-v1
VERSION:2.0
METHOD:PUBLISH
BEGIN:VTIMEZONE
TZID:Europe/London
X-LIC-LOCATION:Europe/London
BEGIN:DAYLIGHT
TZOFFSETFROM:+0000
TZOFFSETTO:+0100
TZNAME:BST
DTSTART:19700329T010000
RRULE:FREQ=YEARLY;BYMONTH=3;BYDAY=-1SU
END:DAYLIGHT
BEGIN:STANDARD
TZOFFSETFROM:+0100
TZOFFSETTO:+0000
TZNAME:GMT
DTSTART:19701025T020000
RRULE:FREQ=YEARLY;BYMONTH=10;BYDAY=-1SU
END:STANDARD
END:VTIMEZONE
BEGIN:VEVENT
UID:6278630:Event:79822
DTSTAMP:20260425T014347Z
SUMMARY:St Harmonicas Blues Club: Odyssey Blues Band
DESCRIPTION:Another classic evening lined up for you this Friday at St
  Harmonica's Blues Club when Malcolm Hine brings his band, The Odyssey
  Blues Band, to the club. And what a band they are, playing red hot Bl
 ues,  Rhythm and Blues and Soul. Hugely popular last time they played
  at St H, The Odyssey feature Tony Beagley on vocals, sax and keyboard
 s (the real Hammond sound), Terry Fanning on drums and backing vocals 
 and Pete Duke on bass guitar. Some say that Malcolm Hine is the finest
  Blues guitarist in North London, also that he cannot be killed by con
 ventional weapons! All we know is that you must not miss this band on 
 Friday.\nHalf time support comes in the form of Mad Dog Dave Barnes.\n
 We'll see you there, details are attached and below\nWe'll see you the
 re.\n \nThe Vintage Blues Club St Harmonicas 6 Cannon Hill, Southgate
 , N14 7HG  More Info: www.thevintage.org.uk\n \n\nFor more informatio
 n visit https://bowesandbounds.org/events/st-harmonicas-blues-club-ody
 ssey-blues-band
DTSTART;TZID=Europe/London:20140620T210000
DTEND;TZID=Europe/London:20140620T233000
CATEGORIES:music
LOCATION:Southgate
WEBSITE:http://maps.google.com/maps?f=q&source=s_q&hl=en&geocode=&q=n1
 4+7hg&sll=37.0625,-95.677068&sspn=48.641855,74.707031&ie=UTF8&hq=&hnea
 r=London+N14+7HG,+United+Kingdom&z=16
URL:http://maps.google.com/maps?f=q&source=s_q&hl=en&geocode=&q=n14+7h
 g&sll=37.0625,-95.677068&sspn=48.641855,74.707031&ie=UTF8&hq=&hnear=Lo
 ndon+N14+7HG,+United+Kingdom&z=16
CONTACT:
ORGANIZER:Administrator
ATTACH;FMTTYPE="image/jpeg":http://storage.ning.com/topology/rest/1.0/
 file/get/2287252081?profile=original
ATTENDEE;ROLE=REQ-PARTICIPANT;PARTSTAT=ACCEPTED;RSVP=TRUE;CN="Richard 
 McKeever":https://bowesandbounds.org/profile/3hwxkqhdde8gc
END:VEVENT
END:VCALENDAR
